Workbook
Name Apples: #REF!
Name Apples: #REF!
Name Apples: #REF!
Name Bananas: #REF!
Name Bananas: #REF!
Name Bananas: #REF!
Name grp_WalkMeArrows: "shp_ArrowCurved,txt_WalkMeArrows,shp_ArrowStraight"
Name grp_WalkMeBrace: "shp_BraceBottom,txt_WalkMeBrace,shp_BraceLeft"
Name Lemons: #REF!
Name lst_Fruit: #REF!
Name lst_FruitType: #REF!
Name Oranges: #REF!
Name SalesTax: 0.0825
Name Shipping: 1.25

Sheet Data
C1: 1 | D1: 2 | E1: 3 | F1: 4 | G1: 5 | H1: 6 | I1: 7 | J1: 8 | K1: 9 | L1: 10 | M1: 11 | N1: 12 | O1: 13 | P1: 14
C2: Concrete Parameters
C3: Class | D3: Mark | E3: fck | F3: fcm | G3: Ecm | H3: Ec | I3: εc1 | J3: εcu1 | K3: εc2 | L3: εcu2 | M3: n | N3: εc3 | O3: εcu3 | P3: εcy
E4: [MPa] | F4: [MPa] | G4: [GPa] | H4: [GPa] | I4: [‰] | J4: [‰] | K4: [‰] | L4: [‰] | M4: [-] | N4: [‰] | O4: [‰] | P4: [‰]
C5: C12/15 | D5: 15 | E5: 12 | F5: =E5+8 -> 20 | G5: 27 | H5: =11000*E5^0.3/1000 -> 23.181795 | I5: 1.8 | J5: 3.5 | K5: 2 | L5: 3.5 | M5: 2 | N5: 1.75 | O5: 3.5 | P5: =1.8*E5/G5 -> 0.8
C6: C16/20 | D6: 20 | E6: 16 | F6: =E6+8 -> 24 | G6: 29 | H6: =11000*E6^0.3/1000 -> 25.271364 | I6: 1.9 | J6: 3.5 | K6: 2 | L6: 3.5 | M6: 2 | N6: 1.75 | O6: 3.5 | P6: =1.8*E6/G6 -> 0.99310345
C7: C20/25 | D7: 25 | E7: 20 | F7: =E7+8 -> 28 | G7: 30 | H7: =11000*E7^0.3/1000 -> 27.021017 | I7: 2 | J7: 3.5 | K7: 2 | L7: 3.5 | M7: 2 | N7: 1.75 | O7: 3.5 | P7: =1.8*E7/G7 -> 1.2
C8: C25/30 | D8: 30 | E8: 25 | F8: =E8+8 -> 33 | G8: 31 | H8: =11000*E8^0.3/1000 -> 28.891806 | I8: 2.1 | J8: 3.5 | K8: 2 | L8: 3.5 | M8: 2 | N8: 1.75 | O8: 3.5 | P8: =1.8*E8/G8 -> 1.4516129
C9: C30/37 | D9: 35 - 40 | E9: 30 | F9: =E9+8 -> 38 | G9: 33 | H9: =11000*E9^0.3/1000 -> 30.516102 | I9: 2.2 | J9: 3.5 | K9: 2 | L9: 3.5 | M9: 2 | N9: 1.75 | O9: 3.5 | P9: =1.8*E9/G9 -> 1.6363636
C10: C35/45 | D10: 45 | E10: 35 | F10: =E10+8 -> 43 | G10: 34 | H10: =11000*E10^0.3/1000 -> 31.960466 | I10: 2.25 | J10: 3.5 | K10: 2 | L10: 3.5 | M10: 2 | N10: 1.75 | O10: 3.5 | P10: =1.8*E10/G10 -> 1.8529412
C11: C40/50 | D11: 50 | E11: 40 | F11: =E11+8 -> 48 | G11: 35 | H11: =11000*E11^0.3/1000 -> 33.266774 | I11: 2.3 | J11: 3.5 | K11: 2 | L11: 3.5 | M11: 2 | N11: 1.75 | O11: 3.5 | P11: =1.8*E11/G11 -> 2.0571429
C12: C45/55 | D12: 55 | E12: 45 | F12: =E12+8 -> 53 | G12: 36 | H12: =11000*E12^0.3/1000 -> 34.463267 | I12: 2.4 | J12: 3.5 | K12: 2 | L12: 3.5 | M12: 2 | N12: 1.75 | O12: 3.5 | P12: =1.8*E12/G12 -> 2.25
C13: C50/60 | D13: 60 | E13: 50 | F13: =E13+8 -> 58 | G13: 37 | H13: =11000*E13^0.3/1000 -> 35.569985 | I13: 2.45 | J13: 3.5 | K13: 2 | L13: 3.5 | M13: 2 | N13: 1.75 | O13: 3.5 | P13: =1.8*E13/G13 -> 2.4324324
C15: Reinforcement Parameters
C16: Class | D16: fy | E16: fu | F16: k | G16: Es | H16: εsy | I16: εsu | J16: εsu
D17: [MPa] | E17: [MPa] | F17: [-] | G17: [GPa] | H17: [‰] | I17: [‰] | J17: [‰]
C18: B500 А | D18: 500 | E18: =D18*F18 -> 525 | F18: 1.05 | G18: 200 | H18: =D18/G18 -> 2.5 | I18: 25 | J18: =0.9*I18 -> 22.5
C19: B500 B | D19: 500 | E19: =D19*F19 -> 540 | F19: 1.08 | G19: 200 | H19: =D19/G19 -> 2.5 | I19: 50 | J19: =0.9*I19 -> 45
C20: B500 C | D20: 500 | E20: =D20*F20 -> 575 | F20: 1.15 | G20: 200 | H20: =D20/G20 -> 2.5 | I20: 75 | J20: =0.9*I20 -> 67.5
C22: Bar Size | D22: Spacing 1 | E22: Spacing 2 | F22: Conf | G22: Type
C23: 6 | D23: 50 | E23: 50 | F23: Max | G23: Column
C24: 8 | D24: 100 | E24: 75 | F24: Min | G24: Wall
C25: 10 | D25: 150 | E25: 100
C26: 12 | D26: 200 | E26: 125
C27: 14 | E27: 150
C28: 16 | E28: 175
C29: 18 | E29: 200
C30: 20
C31: 22
C32: 25
C33: 32

Sheet NOTES
B4: 1 | C4: Formulas are derived only for rectangular strirrups. Diamond shapes, if are to be used, require formulas to be adjusted
C5: Suported | K5: Formulas to be adjusted
B19: 2 | C19: Only spacings of flexural reinforcement of 50, 100, 150, 200 are available to simplify computation as it negates computational diffuculty if spacing of restrained bars differs over one direction
B20: 3 | C20: Designer has a choice to either restrain every available flexural bar (MAX), or only the very least, where every second bar is restrained with maxium spacing of 200mm (MIN). As other possibilites are hard to compute in general terms for the same reasons as above
B42: 4 | C42: Recomandation by Fardis to take twice the minimal confining stress in each direction is used. In general using equation (σ2+4σ3)/5 for value of "average" confining stress is in general not sufficient to justify extra computation needed for it to be aplied
B43: 5 | C43: Descending branch of σ-ε diagram for confined concrete in both EC2 and EC8 Model is taken to be linear with ultimate stress of 85% of peak stress since this more closley resmbles behaviour of concrete under cyclic loading
C44: 5.1 | D44: Refereces: | E44: Seismic Design, Assessment and Retrofitting of Concrete Buildings Based on EN - Fardis
E45: Modeli utegnutog betona prema Evrokodu 2 i Evrokodu 8 i njihov uticaj na seizmički odgovor AB okvira - Ladjinovic

Sheet WR03-01
C2: Concrete Parameters - Unconfined
C3: Class | D3: Mark (BAB '87) | E3: fck | F3: fcm | G3: Ecm | H3: Ec | I3: εc1 | J3: εcu1 | K3: εc2 | L3: εcu2 | M3: n | N3: εc3 | O3: εcu3 | P3: εcy | Q3: k
E4: [MPa] | F4: [MPa] | G4: [GPa] | H4: [GPa] | I4: [‰] | J4: [‰] | K4: [‰] | L4: [‰] | M4: [-] | N4: [‰] | O4: [‰] | P4: [‰] | Q4: [-]
C5: C50/60 | D5: =VLOOKUP(C5,Data!C5:O13,2,FALSE) -> 60 | E5: =VLOOKUP(C5,Data!C5:P13,3,FALSE) -> 50 | F5: =VLOOKUP(C5,Data!C5:P13,4,FALSE) -> 58 | G5: =VLOOKUP(C5,Data!C5:P13,5,FALSE) -> 37 | H5: =VLOOKUP(C5,Data!C5:P13,6,FALSE) -> 35.569985 | I5: =VLOOKUP(C5,Data!C5:P13,7,FALSE) -> 2.45 | J5: =VLOOKUP(C5,Data!C5:P13,8,FALSE) -> 3.5 | K5: =VLOOKUP(C5,Data!C5:P13,9,FALSE) -> 2 | L5: =VLOOKUP(C5,Data!C5:P13,10,FALSE) -> 3.5 | M5: =VLOOKUP('WR03-01'!C5,Data!C5:P13,11,FALSE) -> 2 | N5: =VLOOKUP(C5,Data!C5:P13,12,FALSE) -> 1.75 | O5: =VLOOKUP(C5,Data!C5:P13,13,FALSE) -> 3.5 | P5: =VLOOKUP(C5,Data!C5:P13,14,FALSE) -> 2.4324324 | Q5: =1.05*H5*I31/H31 -> 2.4240509
C7: Reinforcement Parameters | L7: Design Parameters
C8: Class | D8: fy | E8: fu | F8: k | G8: Es | H8: εsy | I8: εsu.k | J8: εsu.d | L8: ϒc | M8: ϒs | N8: αcc
D9: [MPa] | E9: [MPa] | F9: [-] | G9: [GPa] | H9: [‰] | I9: [‰] | J9: [‰] | L9: [-] | M9: [-] | N9: [-]
C10: B500 B | D10: =VLOOKUP(C10,Data!C18:J20,2,FALSE) -> 500 | E10: =VLOOKUP(C10,Data!C18:J20,3,FALSE) -> 540 | F10: =VLOOKUP(C10,Data!C18:J20,4,FALSE) -> 1.08 | G10: =VLOOKUP(C10,Data!C18:J20,5,FALSE) -> 200 | H10: =VLOOKUP(C10,Data!C18:J20,6,FALSE) -> 2.5 | I10: =VLOOKUP(C10,Data!C18:J20,7,FALSE) -> 50 | J10: =VLOOKUP(C10,Data!C18:J20,8,FALSE) -> 45 | L10: 1.5 | M10: 1.15 | N10: 0.85 | AP10: Without Hardening | AS10: With Hardening
C12: Section Parameters | AB12: σ - ε Confined Concrete EC2 | AG12: σ - ε Confined Concrete EC8 | AL12: σ - ε Unconfined Concrete EC2 | AP12: σ - ε Reinforcement | AS12: σ - ε Reinforcement
C13: b | D13: h | E13: a0 | F13: b0 | G13: h0 | H13: Type | AB13: ε | AC13: η | AD13: σcc | AE13: σccD | AG13: ε | AH13: η | AI13: σcc | AJ13: σccD | AL13: ε | AM13: σc | AN13: σcD | AP13: ε | AQ13: σs | AS13: ε | AT13: σs
C14: [mm] | D14: [mm] | E14: [mm] | F14: [mm] | G14: [mm] | H14: [-] | AB14: [‰] | AC14: [-] | AD14: [MPa] | AE14: [MPa] | AG14: [‰] | AH14: [-] | AI14: [MPa] | AJ14: [MPa] | AL14: [‰] | AM14: [MPa] | AN14: [MPa] | AP14: [‰] | AQ14: [MPa] | AS14: [‰] | AT14: [MPa]
C15: 900 | D15: 600 | E15: 35 | F15: =C15-2*E15-C21 -> 822 | G15: =D15-2*E15-C21 -> 522 | H15: Wall | AB15: -0.1 | AC15: 0 | AD15: -0.1 | AE15: =-0.1 -> -0.1 | AG15: -0.1 | AH15: 0 | AI15: -0.1 | AJ15: =-0.1 -> -0.1 | AL15: -0.1 | AM15: -0.1 | AN15: =-0.1 -> -0.1 | AP15: =-1*J10 -> -45 | AQ15: =-D10 -> -500 | AS15: =-1*J10 -> -45 | AT15: =-1*E10 -> -540 | AV15: =$K$5 -> 2 | AW15: =$AB$36 -> 2.6582441 | AX15: =$AL$37 -> 3.5 | AY15: =$AB$37 -> 9.6150222 | AZ15: =$AG$37 -> 16.908086 | BA15: =$AI$36 -> 59.216972
C16: φf | D16: sx.ass | E16: sy.ass | F16: nx | G16: ny | H16: sx | I16: sy | J16: Confinement | K16: sx.c | L16: sy.c | M16: nx.c | N16: ny.c | AB16: 0 | AC16: =AB16/$D$31 -> 0 | AD16: =IF(AB16<=$AB$36,$C$31*(1-(1-AB16/$AB$36)^$M$5),$C$31) -> 0 | AE16: =AD16*$N$10/$L$10 -> 0 | AG16: 0 | AH16: =AG16/$I$31 -> 0 | AI16: =IF(AG16<=$AG$36,$H$31*AH16*($Q$5-AH16)/(1+($Q$5-2)*AH16)) -> 0 | AJ16: =AI16*$N$10/$L$10 -> 0 | AL16: 0 | AM16: =$E$5*(1-(1-AL16/$K$5)^$M$5) -> 0 | AN16: =AM16*$N$10/$L$10 -> 0 | AP16: =-1*D10/G10 -> -2.5 | AQ16: =AQ15 -> -500 | AS16: =-1*H10 -> -2.5 | AT16: =-1*D10 -> -500 | AV16: =$K$5 -> 2 | AW16: =$AB$36 -> 2.6582441 | AX16: =$AL$37 -> 3.5 | AY16: =$AB$37 -> 9.6150222 | AZ16: =$AG$37 -> 16.908086 | BA16: =$AI$36 -> 59.216972
C17: [mm] | D17: [mm] | E17: [mm] | F17: [-] | G17: [-] | H17: [mm] | I17: [mm] | K17: [mm] | L17: [mm] | M17: [-] | N17: [-] | AB17: =AB16+$D$31/20 -> 0.1329122 | AC17: =AB17/$D$31 -> 0.05 | AD17: =IF(AB17<=$AB$36,$C$31*(1-(1-AB17/$AB$36)^$M$5),$C$31) -> 5.6202683 | AE17: =AD17*$N$10/$L$10 -> 3.1848187 | AG17: =AG16+$I$31/20 -> 0.19216972 | AH17: =AG17/$I$31 -> 0.05 | AI17: =IF(AG17<=$AG$36,$H$31*AH17*($Q$5-AH17)/(1+($Q$5-2)*AH17)) -> 6.8832625 | AJ17: =AI17*$N$10/$L$10 -> 3.9005154 | AL17: =AL16+$K$5/20 -> 0.1 | AM17: =$E$5*(1-(1-AL17/$K$5)^$M$5) -> 4.875 | AN17: =AM17*$N$10/$L$10 -> 2.7625 | AP17: =0 -> 0 | AQ17: =0 -> 0 | AS17: =0 -> 0 | AT17: =0 -> 0 | AV17: =$K$5 -> 2 | AW17: =$AB$36 -> 2.6582441 | AX17: =$AL$37 -> 3.5 | AY17: =$AB$37 -> 9.6150222 | AZ17: =$AG$37 -> 16.908086 | BA17: =$AI$36 -> 59.216972
C18: 16 | D18: 200 | E18: 200 | F18: =IF(ROUND(F15/D18,0)*D18<F15-C18-C21,ROUND(F15/D18,0)+1,ROUND(F15/D18,0)) -> 4 | G18: =IF(ROUND(G15/E18,0)*E18<G15-C18-C21,ROUND(G15/E18,0)+1,ROUND(G15/E18,0)) -> 3 | H18: =(F15-C21-C18)/F18 -> 199.5 | I18: =(G15-C21-C18)/G18 -> 166 | J18: Min | K18: =IF(J18="Min",IF(D18=200,H18,IF(2*H18<=200,2*H18,H18)),IF(J18="Max",H18)) -> 199.5 | L18: =IF(J18="Min",IF(E18=200,I18,IF(2*I18<=200,2*I18,I18)),IF(J18="Max",I18)) -> 166 | M18: =IF(K18=H18,F18,F18/2) -> 4 | N18: =IF(L18=I18,G18,G18/2) -> 3 | AB18: =AB17+$D$31/20 -> 0.26582441 | AC18: =AB18/$D$31 -> 0.1 | AD18: =IF(AB18<=$AB$36,$C$31*(1-(1-AB18/$AB$36)^$M$5),$C$31) -> 10.952318 | AE18: =AD18*$N$10/$L$10 -> 6.2063134 | AG18: =AG17+$I$31/20 -> 0.38433943 | AH18: =AG18/$I$31 -> 0.1 | AI18: =IF(AG18<=$AG$36,$H$31*AH18*($Q$5-AH18)/(1+($Q$5-2)*AH18)) -> 13.202474 | AJ18: =AI18*$N$10/$L$10 -> 7.4814017 | AL18: =AL17+$K$5/20 -> 0.2 | AM18: =$E$5*(1-(1-AL18/$K$5)^$M$5) -> 9.5 | AN18: =AM18*$N$10/$L$10 -> 5.3833333 | AP18: =-1*AP16 -> 2.5 | AQ18: =-1*AQ16 -> 500 | AS18: =H10 -> 2.5 | AT18: =D10 -> 500 | AV18: =$K$5 -> 2 | AW18: =$AB$36 -> 2.6582441 | AX18: =$AL$37 -> 3.5 | AY18: =$AB$37 -> 9.6150222 | AZ18: =$AG$37 -> 16.908086 | BA18: =$AI$36 -> 59.216972
C19: φs | D19: s | E19: Asx | F19: Asy | G19: ρswx | H19: ρswy | I19: αn | J19: αs | K19: α | L19: ρsw | M19: ωw | N19: σ2 | AB19: =AB18+$D$31/20 -> 0.39873661 | AC19: =AB19/$D$31 -> 0.15 | AD19: =IF(AB19<=$AB$36,$C$31*(1-(1-AB19/$AB$36)^$M$5),$C$31) -> 15.996148 | AE19: =AD19*$N$10/$L$10 -> 9.0644841 | AG19: =AG18+$I$31/20 -> 0.57650915 | AH19: =AG19/$I$31 -> 0.15 | AI19: =IF(AG19<=$AG$36,$H$31*AH19*($Q$5-AH19)/(1+($Q$5-2)*AH19)) -> 18.991365 | AJ19: =AI19*$N$10/$L$10 -> 10.761774 | AL19: =AL18+$K$5/20 -> 0.3 | AM19: =$E$5*(1-(1-AL19/$K$5)^$M$5) -> 13.875 | AN19: =AM19*$N$10/$L$10 -> 7.8625 | AP19: =-1*AP15 -> 45 | AQ19: =AQ18 -> 500 | AS19: =J10 -> 45 | AT19: =E10 -> 540 | AV19: =$K$5 -> 2 | AW19: =$AB$36 -> 2.6582441 | AX19: =$AL$37 -> 3.5 | AY19: =$AB$37 -> 9.6150222 | AZ19: =$AG$37 -> 16.908086 | BA19: =$AI$36 -> 59.216972
C20: [mm] | D20: [mm] | E20: [mm2] | F20: [mm2] | G20: [%] | H20: [%] | I20: [-] | J20: [-] | K20: [-] | L20: [%] | M20: [-] | N20: [MPa] | AB20: =AB19+$D$31/20 -> 0.53164882 | AC20: =AB20/$D$31 -> 0.2 | AD20: =IF(AB20<=$AB$36,$C$31*(1-(1-AB20/$AB$36)^$M$5),$C$31) -> 20.75176 | AE20: =AD20*$N$10/$L$10 -> 11.759331 | AG20: =AG19+$I$31/20 -> 0.76867886 | AH20: =AG20/$I$31 -> 0.2 | AI20: =IF(AG20<=$AG$36,$H$31*AH20*($Q$5-AH20)/(1+($Q$5-2)*AH20)) -> 24.281033 | AJ20: =AI20*$N$10/$L$10 -> 13.759252 | AL20: =AL19+$K$5/20 -> 0.4 | AM20: =$E$5*(1-(1-AL20/$K$5)^$M$5) -> 18 | AN20: =AM20*$N$10/$L$10 -> 10.2 | AV20: =$K$5 -> 2 | AW20: =$AB$36 -> 2.6582441 | AX20: =$AL$37 -> 3.5 | AY20: =$AB$37 -> 9.6150222 | AZ20: =$AG$37 -> 16.908086 | BA20: =$AI$36 -> 59.216972
C21: 8 | D21: 100 | E21: =(N18+1)*C21^2*PI()/4 -> 201.06193 | F21: =(M18+1)*C21^2*PI()/4 -> 251.32741 | G21: =E21/(D21*G15)*100 -> 0.38517611 | H21: =F21/(D21*F15)*100 -> 0.30575111 | I21: =1-(M18*2*(K18^2)+N18*2*(L18^2))/(6*F15*G15) -> 0.81210439 | J21: =(1-D21/(2*F15))*(1-D21/(2*G15)) -> 0.84921367 | K21: =I21*J21 -> 0.68965015 | L21: =2*MIN(G21,H21) -> 0.61150222 | M21: =L21/100*D10/E5 -> 0.061150222 | N21: =0.5*M21*E5 -> 1.5287555 | AB21: =AB20+$D$31/20 -> 0.66456102 | AC21: =AB21/$D$31 -> 0.25 | AD21: =IF(AB21<=$AB$36,$C$31*(1-(1-AB21/$AB$36)^$M$5),$C$31) -> 25.219153 | AE21: =AD21*$N$10/$L$10 -> 14.290853 | AG21: =AG20+$I$31/20 -> 0.96084858 | AH21: =AG21/$I$31 -> 0.25 | AI21: =IF(AG21<=$AG$36,$H$31*AH21*($Q$5-AH21)/(1+($Q$5-2)*AH21)) -> 29.100187 | AJ21: =AI21*$N$10/$L$10 -> 16.490106 | AL21: =AL20+$K$5/20 -> 0.5 | AM21: =$E$5*(1-(1-AL21/$K$5)^$M$5) -> 21.875 | AN21: =AM21*$N$10/$L$10 -> 12.395833 | AP21: σ - ε Reinforcement | AS21: σ - ε Reinforcement | AV21: =$K$5 -> 2 | AW21: =$AB$36 -> 2.6582441 | AX21: =$AL$37 -> 3.5 | AY21: =$AB$37 -> 9.6150222 | AZ21: =$AG$37 -> 16.908086 | BA21: =$AI$36 -> 59.216972
AB22: =AB21+$D$31/20 -> 0.79747323 | AC22: =AB22/$D$31 -> 0.3 | AD22: =IF(AB22<=$AB$36,$C$31*(1-(1-AB22/$AB$36)^$M$5),$C$31) -> 29.398327 | AE22: =AD22*$N$10/$L$10 -> 16.659052 | AG22: =AG21+$I$31/20 -> 1.1530183 | AH22: =AG22/$I$31 -> 0.3 | AI22: =IF(AG22<=$AG$36,$H$31*AH22*($Q$5-AH22)/(1+($Q$5-2)*AH22)) -> 33.475379 | AJ22: =AI22*$N$10/$L$10 -> 18.969381 | AL22: =AL21+$K$5/20 -> 0.6 | AM22: =$E$5*(1-(1-AL22/$K$5)^$M$5) -> 25.5 | AN22: =AM22*$N$10/$L$10 -> 14.45 | AP22: ε | AQ22: σsD | AS22: ε | AT22: σsD | AV22: =$K$5 -> 2 | AW22: =$AB$36 -> 2.6582441 | AX22: =$AL$37 -> 3.5 | AY22: =$AB$37 -> 9.6150222 | AZ22: =$AG$37 -> 16.908086 | BA22: =$AI$36 -> 59.216972
C23: Comment on flexural RFT | F23: Comment on confinement RFT | I23: Comment on Volumetric Ratio | AB23: =AB22+$D$31/20 -> 0.93038543 | AC23: =AB23/$D$31 -> 0.35 | AD23: =IF(AB23<=$AB$36,$C$31*(1-(1-AB23/$AB$36)^$M$5),$C$31) -> 33.289282 | AE23: =AD23*$N$10/$L$10 -> 18.863926 | AG23: =AG22+$I$31/20 -> 1.345188 | AH23: =AG23/$I$31 -> 0.35 | AI23: =IF(AG23<=$AG$36,$H$31*AH23*($Q$5-AH23)/(1+($Q$5-2)*AH23)) -> 37.431198 | AJ23: =AI23*$N$10/$L$10 -> 21.211012 | AL23: =AL22+$K$5/20 -> 0.7 | AM23: =$E$5*(1-(1-AL23/$K$5)^$M$5) -> 28.875 | AN23: =AM23*$N$10/$L$10 -> 16.3625 | AP23: [‰] | AQ23: [MPa] | AS23: [‰] | AT23: [MPa] | AV23: =$K$5 -> 2 | AW23: =$AB$36 -> 2.6582441 | AX23: =$AL$37 -> 3.5 | AY23: =$AB$37 -> 9.6150222 | AZ23: =$AG$37 -> 16.908086 | BA23: =$AI$36 -> 59.216972
C24: ρL | D24: =IF(H15="Column",IF(C26<0.01,"Increase RFT",IF(C26>0.04,"Decrease RFT","Pass")),IF(H15="Wall",IF(C26<0.005,"Increase RFT",IF(C26>0.04,"Decrease RFT","Pass")))) -> Pass | F24: s | G24: =IF(D21<MIN(F15/2,G15/2,175,8*C18),"Pass","Decrease Spacing") -> Pass | I24: ωwd | J24: =IF(I26>0.08,"Pass","Adjust Detail") -> Pass | AB24: =AB23+$D$31/20 -> 1.0632976 | AC24: =AB24/$D$31 -> 0.4 | AD24: =IF(AB24<=$AB$36,$C$31*(1-(1-AB24/$AB$36)^$M$5),$C$31) -> 36.892018 | AE24: =AD24*$N$10/$L$10 -> 20.905477 | AG24: =AG23+$I$31/20 -> 1.5373577 | AH24: =AG24/$I$31 -> 0.4 | AI24: =IF(AG24<=$AG$36,$H$31*AH24*($Q$5-AH24)/(1+($Q$5-2)*AH24)) -> 40.990451 | AJ24: =AI24*$N$10/$L$10 -> 23.227922 | AL24: =AL23+$K$5/20 -> 0.8 | AM24: =$E$5*(1-(1-AL24/$K$5)^$M$5) -> 32 | AN24: =AM24*$N$10/$L$10 -> 18.133333 | AP24: =AP15 -> -45 | AQ24: =-D10/M10 -> -434.78261 | AS24: =-1*J10 -> -45 | AT24: =-1*E10/M10 -> -469.56522 | AV24: =$K$5 -> 2 | AW24: =$AB$36 -> 2.6582441 | AX24: =$AL$37 -> 3.5 | AY24: =$AB$37 -> 9.6150222 | AZ24: =$AG$37 -> 16.908086 | BA24: =$AI$36 -> 59.216972
C25: [%] | F25: [mm] | I25: [-] | AB25: =AB24+$D$31/20 -> 1.1962098 | AC25: =AB25/$D$31 -> 0.45 | AD25: =IF(AB25<=$AB$36,$C$31*(1-(1-AB25/$AB$36)^$M$5),$C$31) -> 40.206535 | AE25: =AD25*$N$10/$L$10 -> 22.783703 | AG25: =AG24+$I$31/20 -> 1.7295274 | AH25: =AG25/$I$31 -> 0.45 | AI25: =IF(AG25<=$AG$36,$H$31*AH25*($Q$5-AH25)/(1+($Q$5-2)*AH25)) -> 44.17432 | AJ25: =AI25*$N$10/$L$10 -> 25.032115 | AL25: =AL24+$K$5/20 -> 0.9 | AM25: =$E$5*(1-(1-AL25/$K$5)^$M$5) -> 34.875 | AN25: =AM25*$N$10/$L$10 -> 19.7625 | AP25: =-D10/M10/G10 -> -2.173913 | AQ25: =AQ24 -> -434.78261 | AS25: =-1*D10/G10/M10 -> -2.173913 | AT25: =-1*D10/M10 -> -434.78261 | AV25: =$K$5 -> 2 | AW25: =$AB$36 -> 2.6582441 | AX25: =$AL$37 -> 3.5 | AY25: =$AB$37 -> 9.6150222 | AZ25: =$AG$37 -> 16.908086 | BA25: =$AI$36 -> 59.216972
C26: =IF(G18=1,C18^2*PI()/4*2*(F18+1)/(C15*D15),C18^2*PI()/4*(2*(F18+1)+2*G18)/(C15*D15)) -> 0.0059573905 | F26: =D21 -> 100 | I26: =L21/100*AQ28/AN37 -> 0.093836658 | AB26: =AB25+$D$31/20 -> 1.329122 | AC26: =AB26/$D$31 -> 0.5 | AD26: =IF(AB26<=$AB$36,$C$31*(1-(1-AB26/$AB$36)^$M$5),$C$31) -> 43.232833 | AE26: =AD26*$N$10/$L$10 -> 24.498606 | AG26: =AG25+$I$31/20 -> 1.9216972 | AH26: =AG26/$I$31 -> 0.5 | AI26: =IF(AG26<=$AG$36,$H$31*AH26*($Q$5-AH26)/(1+($Q$5-2)*AH26)) -> 47.002506 | AJ26: =AI26*$N$10/$L$10 -> 26.634753 | AL26: =AL25+$K$5/20 -> 1 | AM26: =$E$5*(1-(1-AL26/$K$5)^$M$5) -> 37.5 | AN26: =AM26*$N$10/$L$10 -> 21.25 | AP26: 0 | AQ26: =0 -> 0 | AS26: =0 -> 0 | AT26: =0 -> 0 | AV26: =$K$5 -> 2 | AW26: =$AB$36 -> 2.6582441 | AX26: =$AL$37 -> 3.5 | AY26: =$AB$37 -> 9.6150222 | AZ26: =$AG$37 -> 16.908086 | BA26: =$AI$36 -> 59.216972
AB27: =AB26+$D$31/20 -> 1.4620342 | AC27: =AB27/$D$31 -> 0.55 | AD27: =IF(AB27<=$AB$36,$C$31*(1-(1-AB27/$AB$36)^$M$5),$C$31) -> 45.970913 | AE27: =AD27*$N$10/$L$10 -> 26.050184 | AG27: =AG26+$I$31/20 -> 2.1138669 | AH27: =AG27/$I$31 -> 0.55 | AI27: =IF(AG27<=$AG$36,$H$31*AH27*($Q$5-AH27)/(1+($Q$5-2)*AH27)) -> 49.493354 | AJ27: =AI27*$N$10/$L$10 -> 28.046234 | AL27: =AL26+$K$5/20 -> 1.1 | AM27: =$E$5*(1-(1-AL27/$K$5)^$M$5) -> 39.875 | AN27: =AM27*$N$10/$L$10 -> 22.595833 | AP27: =-AP25 -> 2.173913 | AQ27: =-AQ25 -> 434.78261 | AS27: =D10/G10/M10 -> 2.173913 | AT27: =D10/M10 -> 434.78261 | AV27: =$K$5 -> 2 | AW27: =$AB$36 -> 2.6582441 | AX27: =$AL$37 -> 3.5 | AY27: =$AB$37 -> 9.6150222 | AZ27: =$AG$37 -> 16.908086 | BA27: =$AI$36 -> 59.216972
C28: Concrete Parameters - Confined EC2 | H28: Concrete Parameters - Confined EC8 | AB28: =AB27+$D$31/20 -> 1.5949465 | AC28: =AB28/$D$31 -> 0.6 | AD28: =IF(AB28<=$AB$36,$C$31*(1-(1-AB28/$AB$36)^$M$5),$C$31) -> 48.420773 | AE28: =AD28*$N$10/$L$10 -> 27.438438 | AG28: =AG27+$I$31/20 -> 2.3060366 | AH28: =AG28/$I$31 -> 0.6 | AI28: =IF(AG28<=$AG$36,$H$31*AH28*($Q$5-AH28)/(1+($Q$5-2)*AH28)) -> 51.66397 | AJ28: =AI28*$N$10/$L$10 -> 29.27625 | AL28: =AL27+$K$5/20 -> 1.2 | AM28: =$E$5*(1-(1-AL28/$K$5)^$M$5) -> 42 | AN28: =AM28*$N$10/$L$10 -> 23.8 | AP28: =-AP24 -> 45 | AQ28: =-AQ25 -> 434.78261 | AS28: =J10 -> 45 | AT28: =E10/M10 -> 469.56522 | AV28: =$K$5 -> 2 | AW28: =$AB$36 -> 2.6582441 | AX28: =$AL$37 -> 3.5 | AY28: =$AB$37 -> 9.6150222 | AZ28: =$AG$37 -> 16.908086 | BA28: =$AI$36 -> 59.216972
C29: fck.c | D29: εc2.c | E29: εcu3.c | F29: fck.cd | H29: fck.c | I29: εc2.c | J29: εcu3.c | K29: fck.cd | AB29: =AB28+$D$31/20 -> 1.7278587 | AC29: =AB29/$D$31 -> 0.65 | AD29: =IF(AB29<=$AB$36,$C$31*(1-(1-AB29/$AB$36)^$M$5),$C$31) -> 50.582415 | AE29: =AD29*$N$10/$L$10 -> 28.663368 | AG29: =AG28+$I$31/20 -> 2.4982063 | AH29: =AG29/$I$31 -> 0.65 | AI29: =IF(AG29<=$AG$36,$H$31*AH29*($Q$5-AH29)/(1+($Q$5-2)*AH29)) -> 53.530321 | AJ29: =AI29*$N$10/$L$10 -> 30.333849 | AL29: =AL28+$K$5/20 -> 1.3 | AM29: =$E$5*(1-(1-AL29/$K$5)^$M$5) -> 43.875 | AN29: =AM29*$N$10/$L$10 -> 24.8625 | AV29: =$K$5 -> 2 | AW29: =$AB$36 -> 2.6582441 | AX29: =$AL$37 -> 3.5 | AY29: =$AB$37 -> 9.6150222 | AZ29: =$AG$37 -> 16.908086 | BA29: =$AI$36 -> 59.216972
C30: [MPa] | D30: [‰] | E30: [‰] | F30: [MPa] | H30: [MPa] | I30: [‰] | J30: [‰] | K30: [MPa] | AB30: =AB29+$D$31/20 -> 1.8607709 | AC30: =AB30/$D$31 -> 0.7 | AD30: =IF(AB30<=$AB$36,$C$31*(1-(1-AB30/$AB$36)^$M$5),$C$31) -> 52.455838 | AE30: =AD30*$N$10/$L$10 -> 29.724975 | AG30: =AG29+$I$31/20 -> 2.690376 | AH30: =AG30/$I$31 -> 0.7 | AI30: =IF(AG30<=$AG$36,$H$31*AH30*($Q$5-AH30)/(1+($Q$5-2)*AH30)) -> 55.107332 | AJ30: =AI30*$N$10/$L$10 -> 31.227488 | AL30: =AL29+$K$5/20 -> 1.4 | AM30: =$E$5*(1-(1-AL30/$K$5)^$M$5) -> 45.5 | AN30: =AM30*$N$10/$L$10 -> 25.783333 | AV30: =$K$5 -> 2 | AW30: =$AB$36 -> 2.6582441 | AX30: =$AL$37 -> 3.5 | AY30: =$AB$37 -> 9.6150222 | AZ30: =$AG$37 -> 16.908086 | BA30: =$AI$36 -> 59.216972
C31: =IF(N21<=0.05*E5,E5*(1+5*N21/E5),E5*(1.125+2.5*N21/E5)) -> 57.643778 | D31: =K5*(C31/E5)^2 -> 2.6582441 | E31: =L5+0.2*N21/E5*1000 -> 9.6150222 | F31: =$N$10*C31/L10 -> 32.664807 | H31: =$E$5*(1+3.7*(N21/E5)^0.86) -> 59.216972 | I31: =$K$5*(1+5*(H31/E5-1)) -> 3.8433943 | J31: =(4/1000+0.5*N21/H31)*1000 -> 16.908086 | K31: =H31*N10/L10 -> 33.556284 | AB31: =AB30+$D$31/20 -> 1.9936831 | AC31: =AB31/$D$31 -> 0.75 | AD31: =IF(AB31<=$AB$36,$C$31*(1-(1-AB31/$AB$36)^$M$5),$C$31) -> 54.041042 | AE31: =AD31*$N$10/$L$10 -> 30.623257 | AG31: =AG30+$I$31/20 -> 2.8825457 | AH31: =AG31/$I$31 -> 0.75 | AI31: =IF(AG31<=$AG$36,$H$31*AH31*($Q$5-AH31)/(1+($Q$5-2)*AH31)) -> 56.408964 | AJ31: =AI31*$N$10/$L$10 -> 31.96508 | AL31: =AL30+$K$5/20 -> 1.5 | AM31: =$E$5*(1-(1-AL31/$K$5)^$M$5) -> 46.875 | AN31: =AM31*$N$10/$L$10 -> 26.5625 | AV31: =$K$5 -> 2 | AW31: =$AB$36 -> 2.6582441 | AX31: =$AL$37 -> 3.5 | AY31: =$AB$37 -> 9.6150222 | AZ31: =$AG$37 -> 16.908086 | BA31: =$AI$36 -> 59.216972
AB32: =AB31+$D$31/20 -> 2.1265953 | AC32: =AB32/$D$31 -> 0.8 | AD32: =IF(AB32<=$AB$36,$C$31*(1-(1-AB32/$AB$36)^$M$5),$C$31) -> 55.338027 | AE32: =AD32*$N$10/$L$10 -> 31.358215 | AG32: =AG31+$I$31/20 -> 3.0747154 | AH32: =AG32/$I$31 -> 0.8 | AI32: =IF(AG32<=$AG$36,$H$31*AH32*($Q$5-AH32)/(1+($Q$5-2)*AH32)) -> 57.448299 | AJ32: =AI32*$N$10/$L$10 -> 32.554036 | AL32: =AL31+$K$5/20 -> 1.6 | AM32: =$E$5*(1-(1-AL32/$K$5)^$M$5) -> 48 | AN32: =AM32*$N$10/$L$10 -> 27.2 | AV32: =$K$5 -> 2 | AW32: =$AB$36 -> 2.6582441 | AX32: =$AL$37 -> 3.5 | AY32: =$AB$37 -> 9.6150222 | AZ32: =$AG$37 -> 16.908086 | BA32: =$AI$36 -> 59.216972
AB33: =AB32+$D$31/20 -> 2.2595075 | AC33: =AB33/$D$31 -> 0.85 | AD33: =IF(AB33<=$AB$36,$C$31*(1-(1-AB33/$AB$36)^$M$5),$C$31) -> 56.346793 | AE33: =AD33*$N$10/$L$10 -> 31.929849 | AG33: =AG32+$I$31/20 -> 3.2668852 | AH33: =AG33/$I$31 -> 0.85 | AI33: =IF(AG33<=$AG$36,$H$31*AH33*($Q$5-AH33)/(1+($Q$5-2)*AH33)) -> 58.237598 | AJ33: =AI33*$N$10/$L$10 -> 33.001306 | AL33: =AL32+$K$5/20 -> 1.7 | AM33: =$E$5*(1-(1-AL33/$K$5)^$M$5) -> 48.875 | AN33: =AM33*$N$10/$L$10 -> 27.695833 | AV33: =$K$5 -> 2 | AW33: =$AB$36 -> 2.6582441 | AX33: =$AL$37 -> 3.5 | AY33: =$AB$37 -> 9.6150222 | AZ33: =$AG$37 -> 16.908086 | BA33: =$AI$36 -> 59.216972
AB34: =AB33+$D$31/20 -> 2.3924197 | AC34: =AB34/$D$31 -> 0.9 | AD34: =IF(AB34<=$AB$36,$C$31*(1-(1-AB34/$AB$36)^$M$5),$C$31) -> 57.06734 | AE34: =AD34*$N$10/$L$10 -> 32.338159 | AG34: =AG33+$I$31/20 -> 3.4590549 | AH34: =AG34/$I$31 -> 0.9 | AI34: =IF(AG34<=$AG$36,$H$31*AH34*($Q$5-AH34)/(1+($Q$5-2)*AH34)) -> 58.788374 | AJ34: =AI34*$N$10/$L$10 -> 33.313412 | AL34: =AL33+$K$5/20 -> 1.8 | AM34: =$E$5*(1-(1-AL34/$K$5)^$M$5) -> 49.5 | AN34: =AM34*$N$10/$L$10 -> 28.05 | AV34: =$K$5 -> 2 | AW34: =$AB$36 -> 2.6582441 | AX34: =$AL$37 -> 3.5 | AY34: =$AB$37 -> 9.6150222 | AZ34: =$AG$37 -> 16.908086 | BA34: =$AI$36 -> 59.216972
AB35: =AB34+$D$31/20 -> 2.5253319 | AC35: =AB35/$D$31 -> 0.95 | AD35: =IF(AB35<=$AB$36,$C$31*(1-(1-AB35/$AB$36)^$M$5),$C$31) -> 57.499668 | AE35: =AD35*$N$10/$L$10 -> 32.583145 | AG35: =AG34+$I$31/20 -> 3.6512246 | AH35: =AG35/$I$31 -> 0.95 | AI35: =IF(AG35<=$AG$36,$H$31*AH35*($Q$5-AH35)/(1+($Q$5-2)*AH35)) -> 59.111442 | AJ35: =AI35*$N$10/$L$10 -> 33.496484 | AL35: =AL34+$K$5/20 -> 1.9 | AM35: =$E$5*(1-(1-AL35/$K$5)^$M$5) -> 49.875 | AN35: =AM35*$N$10/$L$10 -> 28.2625 | AV35: =$K$5 -> 2 | AW35: =$AB$36 -> 2.6582441 | AX35: =$AL$37 -> 3.5 | AY35: =$AB$37 -> 9.6150222 | AZ35: =$AG$37 -> 16.908086 | BA35: =$AI$36 -> 59.216972
AB36: =AB35+$D$31/20 -> 2.6582441 | AC36: =AB36/$D$31 -> 1 | AD36: =IF(AB36<=$AB$36,$C$31*(1-(1-AB36/$AB$36)^$M$5),$C$31) -> 57.643778 | AE36: =AD36*$N$10/$L$10 -> 32.664807 | AG36: =AG35+$I$31/20 -> 3.8433943 | AH36: =AG36/$I$31 -> 1 | AI36: =IF(AG36<=$AG$36,$H$31*AH36*($Q$5-AH36)/(1+($Q$5-2)*AH36)) -> 59.216972 | AJ36: =AI36*$N$10/$L$10 -> 33.556284 | AL36: =AL35+$K$5/20 -> 2 | AM36: =$E$5*(1-(1-AL36/$K$5)^$M$5) -> 50 | AN36: =AM36*$N$10/$L$10 -> 28.333333 | AV36: =$K$5 -> 2 | AW36: =$AB$36 -> 2.6582441 | AX36: =$AL$37 -> 3.5 | AY36: =$AB$37 -> 9.6150222 | AZ36: =$AG$37 -> 16.908086 | BA36: =$AI$36 -> 59.216972
C37: SAP2000 NONLINEAR MATERIAL DATA - INPUT [UNITS kN / m / C°] | AB37: =E31 -> 9.6150222 | AC37: 0 | AD37: =0.85*$AD$36 -> 48.997211 | AE37: =AD37*$N$10/$L$10 -> 27.765086 | AG37: =J31 -> 16.908086 | AH37: 0 | AI37: =0.85*AI36 -> 50.334426 | AJ37: =AI37*$N$10/$L$10 -> 28.522841 | AL37: =L5 -> 3.5 | AM37: =E5 -> 50 | AN37: =AM37*$N$10/$L$10 -> 28.333333 | AV37: =$K$5 -> 2 | AW37: =$AB$36 -> 2.6582441 | AX37: =$AL$37 -> 3.5 | AY37: =$AB$37 -> 9.6150222 | AZ37: =$AG$37 -> 16.908086 | BA37: =$AI$36 -> 59.216972
C39: Confined Concrete EC2 | F39: Confined Concrete EC8 | I39: Unconfined Concrete EC2 | L39: Reinforcement Without Hardening
C41: ε | D41: σcc.D | F41: ε | G41: σcc.D | I41: ε | J41: σc.D | L41: ε | M41: σs.D
C42: [‰] | D42: [kPa] | F42: [‰] | G42: [kPa] | I42: [‰] | J42: [kPa] | L42: [‰] | M42: [MPa]
C43: =AB15/-1000 -> 0.0001 | D43: =-1*AE15*1000 -> 100 | F43: =AG15/-1000 -> 0.0001 | G43: =-1*AJ15*1000 -> 100 | I43: =AL15/-1000 -> 0.0001 | J43: =-1*AN15*1000 -> 100 | L43: =AP24/1000 -> -0.045 | M43: =AQ24*1000 -> -434782.61
C44: =AB16/-1000 -> 0 | D44: =-1*AE16*1000 -> 0 | F44: =AG16/-1000 -> 0 | G44: =-1*AJ16*1000 -> 0 | I44: =AL16/-1000 -> 0 | J44: =-1*AN16*1000 -> 0 | L44: =AP25/1000 -> -0.002173913 | M44: =AQ25*1000 -> -434782.61
C45: =AB17/-1000 -> -0.0001329122 | D45: =-1*AE17*1000 -> -3184.8187 | F45: =AG17/-1000 -> -0.00019216972 | G45: =-1*AJ17*1000 -> -3900.5154 | I45: =AL17/-1000 -> -0.0001 | J45: =-1*AN17*1000 -> -2762.5 | L45: =AP26/1000 -> 0 | M45: =AQ26*1000 -> 0
...

Sheet WR03-04
C2: Concrete Parameters - Unconfined
C3: Class | D3: Mark (BAB '87) | E3: fck | F3: fcm | G3: Ecm | H3: Ec | I3: εc1 | J3: εcu1 | K3: εc2 | L3: εcu2 | M3: n | N3: εc3 | O3: εcu3 | P3: εcy | Q3: k
E4: [MPa] | F4: [MPa] | G4: [GPa] | H4: [GPa] | I4: [‰] | J4: [‰] | K4: [‰] | L4: [‰] | M4: [-] | N4: [‰] | O4: [‰] | P4: [‰] | Q4: [-]
C5: C50/60 | D5: =VLOOKUP(C5,Data!C5:O13,2,FALSE) -> 60 | E5: =VLOOKUP(C5,Data!C5:P13,3,FALSE) -> 50 | F5: =VLOOKUP(C5,Data!C5:P13,4,FALSE) -> 58 | G5: =VLOOKUP(C5,Data!C5:P13,5,FALSE) -> 37 | H5: =VLOOKUP(C5,Data!C5:P13,6,FALSE) -> 35.569985 | I5: =VLOOKUP(C5,Data!C5:P13,7,FALSE) -> 2.45 | J5: =VLOOKUP(C5,Data!C5:P13,8,FALSE) -> 3.5 | K5: =VLOOKUP(C5,Data!C5:P13,9,FALSE) -> 2 | L5: =VLOOKUP(C5,Data!C5:P13,10,FALSE) -> 3.5 | M5: =VLOOKUP('WR03-04'!C5,Data!C5:P13,11,FALSE) -> 2 | N5: =VLOOKUP(C5,Data!C5:P13,12,FALSE) -> 1.75 | O5: =VLOOKUP(C5,Data!C5:P13,13,FALSE) -> 3.5 | P5: =VLOOKUP(C5,Data!C5:P13,14,FALSE) -> 2.4324324 | Q5: =1.05*H5*I31/H31 -> 2.6745142
C7: Reinforcement Parameters | L7: Design Parameters
C8: Class | D8: fy | E8: fu | F8: k | G8: Es | H8: εsy | I8: εsu.k | J8: εsu.d | L8: ϒc | M8: ϒs | N8: αcc
D9: [MPa] | E9: [MPa] | F9: [-] | G9: [GPa] | H9: [‰] | I9: [‰] | J9: [‰] | L9: [-] | M9: [-] | N9: [-]
C10: B500 B | D10: =VLOOKUP(C10,Data!C18:J20,2,FALSE) -> 500 | E10: =VLOOKUP(C10,Data!C18:J20,3,FALSE) -> 540 | F10: =VLOOKUP(C10,Data!C18:J20,4,FALSE) -> 1.08 | G10: =VLOOKUP(C10,Data!C18:J20,5,FALSE) -> 200 | H10: =VLOOKUP(C10,Data!C18:J20,6,FALSE) -> 2.5 | I10: =VLOOKUP(C10,Data!C18:J20,7,FALSE) -> 50 | J10: =VLOOKUP(C10,Data!C18:J20,8,FALSE) -> 45 | L10: 1.5 | M10: 1.15 | N10: 0.85 | AP10: Without Hardening | AS10: With Hardening
C12: Section Parameters | AB12: σ - ε Confined Concrete EC2 | AG12: σ - ε Confined Concrete EC8 | AL12: σ - ε Unconfined Concrete EC2 | AP12: σ - ε Reinforcement | AS12: σ - ε Reinforcement
C13: b | D13: h | E13: a0 | F13: b0 | G13: h0 | H13: Type | AB13: ε | AC13: η | AD13: σcc | AE13: σccD | AG13: ε | AH13: η | AI13: σcc | AJ13: σccD | AL13: ε | AM13: σc | AN13: σcD | AP13: ε | AQ13: σs | AS13: ε | AT13: σs
C14: [mm] | D14: [mm] | E14: [mm] | F14: [mm] | G14: [mm] | H14: [-] | AB14: [‰] | AC14: [-] | AD14: [MPa] | AE14: [MPa] | AG14: [‰] | AH14: [-] | AI14: [MPa] | AJ14: [MPa] | AL14: [‰] | AM14: [MPa] | AN14: [MPa] | AP14: [‰] | AQ14: [MPa] | AS14: [‰] | AT14: [MPa]
C15: 900 | D15: 600 | E15: 35 | F15: =C15-2*E15-C21 -> 822 | G15: =D15-2*E15-C21 -> 522 | H15: Wall | AB15: -0.1 | AC15: 0 | AD15: -0.1 | AE15: =-0.1 -> -0.1 | AG15: -0.1 | AH15: 0 | AI15: -0.1 | AJ15: =-0.1 -> -0.1 | AL15: -0.1 | AM15: -0.1 | AN15: =-0.1 -> -0.1 | AP15: =-1*J10 -> -45 | AQ15: =-D10 -> -500 | AS15: =-1*J10 -> -45 | AT15: =-1*E10 -> -540 | AV15: =$K$5 -> 2 | AW15: =$AB$36 -> 2.9477172 | AX15: =$AL$37 -> 3.5 | AY15: =$AB$37 -> 12.061031 | AZ15: =$AG$37 -> 21.17427 | BA15: =$AI$36 -> 62.310009
C16: φf | D16: sx.ass | E16: sy.ass | F16: nx | G16: ny | H16: sx | I16: sy | J16: Confinement | K16: sx.c | L16: sy.c | M16: nx.c | N16: ny.c | AB16: 0 | AC16: =AB16/$D$31 -> 0 | AD16: =IF(AB16<=$AB$36,$C$31*(1-(1-AB16/$AB$36)^$M$5),$C$31) -> 0 | AE16: =AD16*$N$10/$L$10 -> 0 | AG16: 0 | AH16: =AG16/$I$31 -> 0 | AI16: =IF(AG16<=$AG$36,$H$31*AH16*($Q$5-AH16)/(1+($Q$5-2)*AH16)) -> 0 | AJ16: =AI16*$N$10/$L$10 -> 0 | AL16: 0 | AM16: =$E$5*(1-(1-AL16/$K$5)^$M$5) -> 0 | AN16: =AM16*$N$10/$L$10 -> 0 | AP16: =-1*D10/G10 -> -2.5 | AQ16: =AQ15 -> -500 | AS16: =-1*H10 -> -2.5 | AT16: =-1*D10 -> -500 | AV16: =$K$5 -> 2 | AW16: =$AB$36 -> 2.9477172 | AX16: =$AL$37 -> 3.5 | AY16: =$AB$37 -> 12.061031 | AZ16: =$AG$37 -> 21.17427 | BA16: =$AI$36 -> 62.310009
C17: [mm] | D17: [mm] | E17: [mm] | F17: [-] | G17: [-] | H17: [mm] | I17: [mm] | K17: [mm] | L17: [mm] | M17: [-] | N17: [-] | AB17: =AB16+$D$31/20 -> 0.14738586 | AC17: =AB17/$D$31 -> 0.05 | AD17: =IF(AB17<=$AB$36,$C$31*(1-(1-AB17/$AB$36)^$M$5),$C$31) -> 5.9183757 | AE17: =AD17*$N$10/$L$10 -> 3.3537462 | AG17: =AG16+$I$31/20 -> 0.22310009 | AH17: =AG17/$I$31 -> 0.05 | AI17: =IF(AG17<=$AG$36,$H$31*AH17*($Q$5-AH17)/(1+($Q$5-2)*AH17)) -> 7.9099078 | AJ17: =AI17*$N$10/$L$10 -> 4.4822811 | AL17: =AL16+$K$5/20 -> 0.1 | AM17: =$E$5*(1-(1-AL17/$K$5)^$M$5) -> 4.875 | AN17: =AM17*$N$10/$L$10 -> 2.7625 | AP17: =0 -> 0 | AQ17: =0 -> 0 | AS17: =0 -> 0 | AT17: =0 -> 0 | AV17: =$K$5 -> 2 | AW17: =$AB$36 -> 2.9477172 | AX17: =$AL$37 -> 3.5 | AY17: =$AB$37 -> 12.061031 | AZ17: =$AG$37 -> 21.17427 | BA17: =$AI$36 -> 62.310009
C18: 16 | D18: 150 | E18: 150 | F18: =IF(ROUND(F15/D18,0)*D18<F15-C18-C21,ROUND(F15/D18,0)+1,ROUND(F15/D18,0)) -> 6 | G18: =IF(ROUND(G15/E18,0)*E18<G15-C18-C21,ROUND(G15/E18,0)+1,ROUND(G15/E18,0)) -> 4 | H18: =(F15-C21-C18)/F18 -> 133 | I18: =(G15-C21-C18)/G18 -> 124.5 | J18: Min | K18: =IF(J18="Min",IF(D18=200,H18,IF(2*H18<=200,2*H18,H18)),IF(J18="Max",H18)) -> 133 | L18: =IF(J18="Min",IF(E18=200,I18,IF(2*I18<=200,2*I18,I18)),IF(J18="Max",I18)) -> 124.5 | M18: =IF(K18=H18,F18,F18/2) -> 6 | N18: =IF(L18=I18,G18,G18/2) -> 4 | AB18: =AB17+$D$31/20 -> 0.29477172 | AC18: =AB18/$D$31 -> 0.1 | AD18: =IF(AB18<=$AB$36,$C$31*(1-(1-AB18/$AB$36)^$M$5),$C$31) -> 11.533245 | AE18: =AD18*$N$10/$L$10 -> 6.5355054 | AG18: =AG17+$I$31/20 -> 0.44620017 | AH18: =AG18/$I$31 -> 0.1 | AI18: =IF(AG18<=$AG$36,$H$31*AH18*($Q$5-AH18)/(1+($Q$5-2)*AH18)) -> 15.028131 | AJ18: =AI18*$N$10/$L$10 -> 8.5159411 | AL18: =AL17+$K$5/20 -> 0.2 | AM18: =$E$5*(1-(1-AL18/$K$5)^$M$5) -> 9.5 | AN18: =AM18*$N$10/$L$10 -> 5.3833333 | AP18: =-1*AP16 -> 2.5 | AQ18: =-1*AQ16 -> 500 | AS18: =H10 -> 2.5 | AT18: =D10 -> 500 | AV18: =$K$5 -> 2 | AW18: =$AB$36 -> 2.9477172 | AX18: =$AL$37 -> 3.5 | AY18: =$AB$37 -> 12.061031 | AZ18: =$AG$37 -> 21.17427 | BA18: =$AI$36 -> 62.310009
C19: φs | D19: s | E19: Asx | F19: Asy | G19: ρswx | H19: ρswy | I19: αn | J19: αs | K19: α | L19: ρsw | M19: ωw | N19: σ2 | AB19: =AB18+$D$31/20 -> 0.44215758 | AC19: =AB19/$D$31 -> 0.15 | AD19: =IF(AB19<=$AB$36,$C$31*(1-(1-AB19/$AB$36)^$M$5),$C$31) -> 16.844608 | AE19: =AD19*$N$10/$L$10 -> 9.5452777 | AG19: =AG18+$I$31/20 -> 0.66930026 | AH19: =AG19/$I$31 -> 0.15 | AI19: =IF(AG19<=$AG$36,$H$31*AH19*($Q$5-AH19)/(1+($Q$5-2)*AH19)) -> 21.427411 | AJ19: =AI19*$N$10/$L$10 -> 12.1422 | AL19: =AL18+$K$5/20 -> 0.3 | AM19: =$E$5*(1-(1-AL19/$K$5)^$M$5) -> 13.875 | AN19: =AM19*$N$10/$L$10 -> 7.8625 | AP19: =-1*AP15 -> 45 | AQ19: =AQ18 -> 500 | AS19: =J10 -> 45 | AT19: =E10 -> 540 | AV19: =$K$5 -> 2 | AW19: =$AB$36 -> 2.9477172 | AX19: =$AL$37 -> 3.5 | AY19: =$AB$37 -> 12.061031 | AZ19: =$AG$37 -> 21.17427 | BA19: =$AI$36 -> 62.310009
C20: [mm] | D20: [mm] | E20: [mm2] | F20: [mm2] | G20: [%] | H20: [%] | I20: [-] | J20: [-] | K20: [-] | L20: [%] | M20: [-] | N20: [MPa] | AB20: =AB19+$D$31/20 -> 0.58954343 | AC20: =AB20/$D$31 -> 0.2 | AD20: =IF(AB20<=$AB$36,$C$31*(1-(1-AB20/$AB$36)^$M$5),$C$31) -> 21.852464 | AE20: =AD20*$N$10/$L$10 -> 12.383063 | AG20: =AG19+$I$31/20 -> 0.89240034 | AH20: =AG20/$I$31 -> 0.2 | AI20: =IF(AG20<=$AG$36,$H$31*AH20*($Q$5-AH20)/(1+($Q$5-2)*AH20)) -> 27.171842 | AJ20: =AI20*$N$10/$L$10 -> 15.397377 | AL20: =AL19+$K$5/20 -> 0.4 | AM20: =$E$5*(1-(1-AL20/$K$5)^$M$5) -> 18 | AN20: =AM20*$N$10/$L$10 -> 10.2 | AV20: =$K$5 -> 2 | AW20: =$AB$36 -> 2.9477172 | AX20: =$AL$37 -> 3.5 | AY20: =$AB$37 -> 12.061031 | AZ20: =$AG$37 -> 21.17427 | BA20: =$AI$36 -> 62.310009
C21: 8 | D21: 100 | E21: =(N18+1)*C21^2*PI()/4 -> 251.32741 | F21: =(M18+1)*C21^2*PI()/4 -> 351.85838 | G21: =E21/(D21*G15)*100 -> 0.48147014 | H21: =F21/(D21*F15)*100 -> 0.42805155 | I21: =1-(M18*2*(K18^2)+N18*2*(L18^2))/(6*F15*G15) -> 0.86938455 | J21: =(1-D21/(2*F15))*(1-D21/(2*G15)) -> 0.84921367 | K21: =I21*J21 -> 0.73829325 | L21: =2*MIN(G21,H21) -> 0.85610311 | M21: =L21/100*D10/E5 -> 0.085610311 | N21: =0.5*M21*E5 -> 2.1402578 | AB21: =AB20+$D$31/20 -> 0.73692929 | AC21: =AB21/$D$31 -> 0.25 | AD21: =IF(AB21<=$AB$36,$C$31*(1-(1-AB21/$AB$36)^$M$5),$C$31) -> 26.556814 | AE21: =AD21*$N$10/$L$10 -> 15.048861 | AG21: =AG20+$I$31/20 -> 1.1155004 | AH21: =AG21/$I$31 -> 0.25 | AI21: =IF(AG21<=$AG$36,$H$31*AH21*($Q$5-AH21)/(1+($Q$5-2)*AH21)) -> 32.318118 | AJ21: =AI21*$N$10/$L$10 -> 18.3136 | AL21: =AL20+$K$5/20 -> 0.5 | AM21: =$E$5*(1-(1-AL21/$K$5)^$M$5) -> 21.875 | AN21: =AM21*$N$10/$L$10 -> 12.395833 | AP21: σ - ε Reinforcement | AS21: σ - ε Reinforcement | AV21: =$K$5 -> 2 | AW21: =$AB$36 -> 2.9477172 | AX21: =$AL$37 -> 3.5 | AY21: =$AB$37 -> 12.061031 | AZ21: =$AG$37 -> 21.17427 | BA21: =$AI$36 -> 62.310009
AB22: =AB21+$D$31/20 -> 0.88431515 | AC22: =AB22/$D$31 -> 0.3 | AD22: =IF(AB22<=$AB$36,$C$31*(1-(1-AB22/$AB$36)^$M$5),$C$31) -> 30.957657 | AE22: =AD22*$N$10/$L$10 -> 17.542672 | AG22: =AG21+$I$31/20 -> 1.3386005 | AH22: =AG22/$I$31 -> 0.3 | AI22: =IF(AG22<=$AG$36,$H$31*AH22*($Q$5-AH22)/(1+($Q$5-2)*AH22)) -> 36.916574 | AJ22: =AI22*$N$10/$L$10 -> 20.919392 | AL22: =AL21+$K$5/20 -> 0.6 | AM22: =$E$5*(1-(1-AL22/$K$5)^$M$5) -> 25.5 | AN22: =AM22*$N$10/$L$10 -> 14.45 | AP22: ε | AQ22: σsD | AS22: ε | AT22: σsD | AV22: =$K$5 -> 2 | AW22: =$AB$36 -> 2.9477172 | AX22: =$AL$37 -> 3.5 | AY22: =$AB$37 -> 12.061031 | AZ22: =$AG$37 -> 21.17427 | BA22: =$AI$36 -> 62.310009
C23: Comment on flexural RFT | F23: Comment on confinement RFT | I23: Comment on Volumetric Ratio | AB23: =AB22+$D$31/20 -> 1.031701 | AC23: =AB23/$D$31 -> 0.35 | AD23: =IF(AB23<=$AB$36,$C$31*(1-(1-AB23/$AB$36)^$M$5),$C$31) -> 35.054994 | AE23: =AD23*$N$10/$L$10 -> 19.864497 | AG23: =AG22+$I$31/20 -> 1.5617006 | AH23: =AG23/$I$31 -> 0.35 | AI23: =IF(AG23<=$AG$36,$H$31*AH23*($Q$5-AH23)/(1+($Q$5-2)*AH23)) -> 41.012051 | AJ23: =AI23*$N$10/$L$10 -> 23.240162 | AL23: =AL22+$K$5/20 -> 0.7 | AM23: =$E$5*(1-(1-AL23/$K$5)^$M$5) -> 28.875 | AN23: =AM23*$N$10/$L$10 -> 16.3625 | AP23: [‰] | AQ23: [MPa] | AS23: [‰] | AT23: [MPa] | AV23: =$K$5 -> 2 | AW23: =$AB$36 -> 2.9477172 | AX23: =$AL$37 -> 3.5 | AY23: =$AB$37 -> 12.061031 | AZ23: =$AG$37 -> 21.17427 | BA23: =$AI$36 -> 62.310009
C24: ρL | D24: =IF(H15="Column",IF(C26<0.01,"Increase RFT",IF(C26>0.04,"Decrease RFT","Pass")),IF(H15="Wall",IF(C26<0.005,"Increase RFT",IF(C26>0.04,"Decrease RFT","Pass")))) -> Pass | F24: s | G24: =IF(D21<MIN(F15/2,G15/2,175,8*C18),"Pass","Decrease Spacing") -> Pass | I24: ωwd | J24: =IF(I26>0.08,"Pass","Adjust Detail") -> Pass | AB24: =AB23+$D$31/20 -> 1.1790869 | AC24: =AB24/$D$31 -> 0.4 | AD24: =IF(AB24<=$AB$36,$C$31*(1-(1-AB24/$AB$36)^$M$5),$C$31) -> 38.848825 | AE24: =AD24*$N$10/$L$10 -> 22.014334 | AG24: =AG23+$I$31/20 -> 1.7848007 | AH24: =AG24/$I$31 -> 0.4 | AI24: =IF(AG24<=$AG$36,$H$31*AH24*($Q$5-AH24)/(1+($Q$5-2)*AH24)) -> 44.644626 | AJ24: =AI24*$N$10/$L$10 -> 25.298621 | AL24: =AL23+$K$5/20 -> 0.8 | AM24: =$E$5*(1-(1-AL24/$K$5)^$M$5) -> 32 | AN24: =AM24*$N$10/$L$10 -> 18.133333 | AP24: =AP15 -> -45 | AQ24: =-D10/M10 -> -434.78261 | AS24: =-1*J10 -> -45 | AT24: =-1*E10/M10 -> -469.56522 | AV24: =$K$5 -> 2 | AW24: =$AB$36 -> 2.9477172 | AX24: =$AL$37 -> 3.5 | AY24: =$AB$37 -> 12.061031 | AZ24: =$AG$37 -> 21.17427 | BA24: =$AI$36 -> 62.310009
C25: [%] | F25: [mm] | I25: [-] | AB25: =AB24+$D$31/20 -> 1.3264727 | AC25: =AB25/$D$31 -> 0.45 | AD25: =IF(AB25<=$AB$36,$C$31*(1-(1-AB25/$AB$36)^$M$5),$C$31) -> 42.339149 | AE25: =AD25*$N$10/$L$10 -> 23.992184 | AG25: =AG24+$I$31/20 -> 2.0079008 | AH25: =AG25/$I$31 -> 0.45 | AI25: =IF(AG25<=$AG$36,$H$31*AH25*($Q$5-AH25)/(1+($Q$5-2)*AH25)) -> 47.850228 | AJ25: =AI25*$N$10/$L$10 -> 27.115129 | AL25: =AL24+$K$5/20 -> 0.9 | AM25: =$E$5*(1-(1-AL25/$K$5)^$M$5) -> 34.875 | AN25: =AM25*$N$10/$L$10 -> 19.7625 | AP25: =-D10/M10/G10 -> -2.173913 | AQ25: =AQ24 -> -434.78261 | AS25: =-1*D10/G10/M10 -> -2.173913 | AT25: =-1*D10/M10 -> -434.78261 | AV25: =$K$5 -> 2 | AW25: =$AB$36 -> 2.9477172 | AX25: =$AL$37 -> 3.5 | AY25: =$AB$37 -> 12.061031 | AZ25: =$AG$37 -> 21.17427 | BA25: =$AI$36 -> 62.310009
C26: =IF(G18=1,C18^2*PI()/4*2*(F18+1)/(C15*D15),C18^2*PI()/4*(2*(F18+1)+2*G18)/(C15*D15)) -> 0.008191412 | F26: =D21 -> 100 | I26: =L21/100*AQ28/AN37 -> 0.13137132 | AB26: =AB25+$D$31/20 -> 1.4738586 | AC26: =AB26/$D$31 -> 0.5 | AD26: =IF(AB26<=$AB$36,$C$31*(1-(1-AB26/$AB$36)^$M$5),$C$31) -> 45.525967 | AE26: =AD26*$N$10/$L$10 -> 25.798048 | AG26: =AG25+$I$31/20 -> 2.2310009 | AH26: =AG26/$I$31 -> 0.5 | AI26: =IF(AG26<=$AG$36,$H$31*AH26*($Q$5-AH26)/(1+($Q$5-2)*AH26)) -> 50.661162 | AJ26: =AI26*$N$10/$L$10 -> 28.707992 | AL26: =AL25+$K$5/20 -> 1 | AM26: =$E$5*(1-(1-AL26/$K$5)^$M$5) -> 37.5 | AN26: =AM26*$N$10/$L$10 -> 21.25 | AP26: 0 | AQ26: =0 -> 0 | AS26: =0 -> 0 | AT26: =0 -> 0 | AV26: =$K$5 -> 2 | AW26: =$AB$36 -> 2.9477172 | AX26: =$AL$37 -> 3.5 | AY26: =$AB$37 -> 12.061031 | AZ26: =$AG$37 -> 21.17427 | BA26: =$AI$36 -> 62.310009
AB27: =AB26+$D$31/20 -> 1.6212444 | AC27: =AB27/$D$31 -> 0.55 | AD27: =IF(AB27<=$AB$36,$C$31*(1-(1-AB27/$AB$36)^$M$5),$C$31) -> 48.409278 | AE27: =AD27*$N$10/$L$10 -> 27.431924 | AG27: =AG26+$I$31/20 -> 2.4541009 | AH27: =AG27/$I$31 -> 0.55 | AI27: =IF(AG27<=$AG$36,$H$31*AH27*($Q$5-AH27)/(1+($Q$5-2)*AH27)) -> 53.106555 | AJ27: =AI27*$N$10/$L$10 -> 30.093714 | AL27: =AL26+$K$5/20 -> 1.1 | AM27: =$E$5*(1-(1-AL27/$K$5)^$M$5) -> 39.875 | AN27: =AM27*$N$10/$L$10 -> 22.595833 | AP27: =-AP25 -> 2.173913 | AQ27: =-AQ25 -> 434.78261 | AS27: =D10/G10/M10 -> 2.173913 | AT27: =D10/M10 -> 434.78261 | AV27: =$K$5 -> 2 | AW27: =$AB$36 -> 2.9477172 | AX27: =$AL$37 -> 3.5 | AY27: =$AB$37 -> 12.061031 | AZ27: =$AG$37 -> 21.17427 | BA27: =$AI$36 -> 62.310009
C28: Concrete Parameters - Confined EC2 | H28: Concrete Parameters - Confined EC8 | AB28: =AB27+$D$31/20 -> 1.7686303 | AC28: =AB28/$D$31 -> 0.6 | AD28: =IF(AB28<=$AB$36,$C$31*(1-(1-AB28/$AB$36)^$M$5),$C$31) -> 50.989083 | AE28: =AD28*$N$10/$L$10 -> 28.893813 | AG28: =AG27+$I$31/20 -> 2.677201 | AH28: =AG28/$I$31 -> 0.6 | AI28: =IF(AG28<=$AG$36,$H$31*AH28*($Q$5-AH28)/(1+($Q$5-2)*AH28)) -> 55.212734 | AJ28: =AI28*$N$10/$L$10 -> 31.287216 | AL28: =AL27+$K$5/20 -> 1.2 | AM28: =$E$5*(1-(1-AL28/$K$5)^$M$5) -> 42 | AN28: =AM28*$N$10/$L$10 -> 23.8 | AP28: =-AP24 -> 45 | AQ28: =-AQ25 -> 434.78261 | AS28: =J10 -> 45 | AT28: =E10/M10 -> 469.56522 | AV28: =$K$5 -> 2 | AW28: =$AB$36 -> 2.9477172 | AX28: =$AL$37 -> 3.5 | AY28: =$AB$37 -> 12.061031 | AZ28: =$AG$37 -> 21.17427 | BA28: =$AI$36 -> 62.310009
C29: fck.c | D29: εc2.c | E29: εcu3.c | F29: fck.cd | H29: fck.c | I29: εc2.c | J29: εcu3.c | K29: fck.cd | AB29: =AB28+$D$31/20 -> 1.9160162 | AC29: =AB29/$D$31 -> 0.65 | AD29: =IF(AB29<=$AB$36,$C$31*(1-(1-AB29/$AB$36)^$M$5),$C$31) -> 53.265381 | AE29: =AD29*$N$10/$L$10 -> 30.183716 | AG29: =AG28+$I$31/20 -> 2.9003011 | AH29: =AG29/$I$31 -> 0.65 | AI29: =IF(AG29<=$AG$36,$H$31*AH29*($Q$5-AH29)/(1+($Q$5-2)*AH29)) -> 57.003561 | AJ29: =AI29*$N$10/$L$10 -> 32.302018 | AL29: =AL28+$K$5/20 -> 1.3 | AM29: =$E$5*(1-(1-AL29/$K$5)^$M$5) -> 43.875 | AN29: =AM29*$N$10/$L$10 -> 24.8625 | AV29: =$K$5 -> 2 | AW29: =$AB$36 -> 2.9477172 | AX29: =$AL$37 -> 3.5 | AY29: =$AB$37 -> 12.061031 | AZ29: =$AG$37 -> 21.17427 | BA29: =$AI$36 -> 62.310009
C30: [MPa] | D30: [‰] | E30: [‰] | F30: [MPa] | H30: [MPa] | I30: [‰] | J30: [‰] | K30: [MPa] | AB30: =AB29+$D$31/20 -> 2.063402 | AC30: =AB30/$D$31 -> 0.7 | AD30: =IF(AB30<=$AB$36,$C$31*(1-(1-AB30/$AB$36)^$M$5),$C$31) -> 55.238173 | AE30: =AD30*$N$10/$L$10 -> 31.301631 | AG30: =AG29+$I$31/20 -> 3.1234012 | AH30: =AG30/$I$31 -> 0.7 | AI30: =IF(AG30<=$AG$36,$H$31*AH30*($Q$5-AH30)/(1+($Q$5-2)*AH30)) -> 58.500707 | AJ30: =AI30*$N$10/$L$10 -> 33.150401 | AL30: =AL29+$K$5/20 -> 1.4 | AM30: =$E$5*(1-(1-AL30/$K$5)^$M$5) -> 45.5 | AN30: =AM30*$N$10/$L$10 -> 25.783333 | AV30: =$K$5 -> 2 | AW30: =$AB$36 -> 2.9477172 | AX30: =$AL$37 -> 3.5 | AY30: =$AB$37 -> 12.061031 | AZ30: =$AG$37 -> 21.17427 | BA30: =$AI$36 -> 62.310009
C31: =IF(N21<=0.05*E5,E5*(1+5*N21/E5),E5*(1.125+2.5*N21/E5)) -> 60.701289 | D31: =K5*(C31/E5)^2 -> 2.9477172 | E31: =L5+0.2*N21/E5*1000 -> 12.061031 | F31: =$N$10*C31/L10 -> 34.397397 | H31: =$E$5*(1+3.7*(N21/E5)^0.86) -> 62.310009 | I31: =$K$5*(1+5*(H31/E5-1)) -> 4.4620017 | J31: =(4/1000+0.5*N21/H31)*1000 -> 21.17427 | K31: =H31*N10/L10 -> 35.309005 | AB31: =AB30+$D$31/20 -> 2.2107879 | AC31: =AB31/$D$31 -> 0.75 | AD31: =IF(AB31<=$AB$36,$C$31*(1-(1-AB31/$AB$36)^$M$5),$C$31) -> 56.907458 | AE31: =AD31*$N$10/$L$10 -> 32.24756 | AG31: =AG30+$I$31/20 -> 3.3465013 | AH31: =AG31/$I$31 -> 0.75 | AI31: =IF(AG31<=$AG$36,$H$31*AH31*($Q$5-AH31)/(1+($Q$5-2)*AH31)) -> 59.723905 | AJ31: =AI31*$N$10/$L$10 -> 33.843546 | AL31: =AL30+$K$5/20 -> 1.5 | AM31: =$E$5*(1-(1-AL31/$K$5)^$M$5) -> 46.875 | AN31: =AM31*$N$10/$L$10 -> 26.5625 | AV31: =$K$5 -> 2 | AW31: =$AB$36 -> 2.9477172 | AX31: =$AL$37 -> 3.5 | AY31: =$AB$37 -> 12.061031 | AZ31: =$AG$37 -> 21.17427 | BA31: =$AI$36 -> 62.310009
AB32: =AB31+$D$31/20 -> 2.3581737 | AC32: =AB32/$D$31 -> 0.8 | AD32: =IF(AB32<=$AB$36,$C$31*(1-(1-AB32/$AB$36)^$M$5),$C$31) -> 58.273237 | AE32: =AD32*$N$10/$L$10 -> 33.021501 | AG32: =AG31+$I$31/20 -> 3.5696014 | AH32: =AG32/$I$31 -> 0.8 | AI32: =IF(AG32<=$AG$36,$H$31*AH32*($Q$5-AH32)/(1+($Q$5-2)*AH32)) -> 60.691158 | AJ32: =AI32*$N$10/$L$10 -> 34.391656 | AL32: =AL31+$K$5/20 -> 1.6 | AM32: =$E$5*(1-(1-AL32/$K$5)^$M$5) -> 48 | AN32: =AM32*$N$10/$L$10 -> 27.2 | AV32: =$K$5 -> 2 | AW32: =$AB$36 -> 2.9477172 | AX32: =$AL$37 -> 3.5 | AY32: =$AB$37 -> 12.061031 | AZ32: =$AG$37 -> 21.17427 | BA32: =$AI$36 -> 62.310009
AB33: =AB32+$D$31/20 -> 2.5055596 | AC33: =AB33/$D$31 -> 0.85 | AD33: =IF(AB33<=$AB$36,$C$31*(1-(1-AB33/$AB$36)^$M$5),$C$31) -> 59.33551 | AE33: =AD33*$N$10/$L$10 -> 33.623456 | AG33: =AG32+$I$31/20 -> 3.7927015 | AH33: =AG33/$I$31 -> 0.85 | AI33: =IF(AG33<=$AG$36,$H$31*AH33*($Q$5-AH33)/(1+($Q$5-2)*AH33)) -> 61.418925 | AJ33: =AI33*$N$10/$L$10 -> 34.804057 | AL33: =AL32+$K$5/20 -> 1.7 | AM33: =$E$5*(1-(1-AL33/$K$5)^$M$5) -> 48.875 | AN33: =AM33*$N$10/$L$10 -> 27.695833 | AV33: =$K$5 -> 2 | AW33: =$AB$36 -> 2.9477172 | AX33: =$AL$37 -> 3.5 | AY33: =$AB$37 -> 12.061031 | AZ33: =$AG$37 -> 21.17427 | BA33: =$AI$36 -> 62.310009
AB34: =AB33+$D$31/20 -> 2.6529455 | AC34: =AB34/$D$31 -> 0.9 | AD34: =IF(AB34<=$AB$36,$C$31*(1-(1-AB34/$AB$36)^$M$5),$C$31) -> 60.094276 | AE34: =AD34*$N$10/$L$10 -> 34.053423 | AG34: =AG33+$I$31/20 -> 4.0158015 | AH34: =AG34/$I$31 -> 0.9 | AI34: =IF(AG34<=$AG$36,$H$31*AH34*($Q$5-AH34)/(1+($Q$5-2)*AH34)) -> 61.922283 | AJ34: =AI34*$N$10/$L$10 -> 35.089293 | AL34: =AL33+$K$5/20 -> 1.8 | AM34: =$E$5*(1-(1-AL34/$K$5)^$M$5) -> 49.5 | AN34: =AM34*$N$10/$L$10 -> 28.05 | AV34: =$K$5 -> 2 | AW34: =$AB$36 -> 2.9477172 | AX34: =$AL$37 -> 3.5 | AY34: =$AB$37 -> 12.061031 | AZ34: =$AG$37 -> 21.17427 | BA34: =$AI$36 -> 62.310009
AB35: =AB34+$D$31/20 -> 2.8003313 | AC35: =AB35/$D$31 -> 0.95 | AD35: =IF(AB35<=$AB$36,$C$31*(1-(1-AB35/$AB$36)^$M$5),$C$31) -> 60.549536 | AE35: =AD35*$N$10/$L$10 -> 34.311404 | AG35: =AG34+$I$31/20 -> 4.2389016 | AH35: =AG35/$I$31 -> 0.95 | AI35: =IF(AG35<=$AG$36,$H$31*AH35*($Q$5-AH35)/(1+($Q$5-2)*AH35)) -> 62.215069 | AJ35: =AI35*$N$10/$L$10 -> 35.255206 | AL35: =AL34+$K$5/20 -> 1.9 | AM35: =$E$5*(1-(1-AL35/$K$5)^$M$5) -> 49.875 | AN35: =AM35*$N$10/$L$10 -> 28.2625 | AV35: =$K$5 -> 2 | AW35: =$AB$36 -> 2.9477172 | AX35: =$AL$37 -> 3.5 | AY35: =$AB$37 -> 12.061031 | AZ35: =$AG$37 -> 21.17427 | BA35: =$AI$36 -> 62.310009
AB36: =AB35+$D$31/20 -> 2.9477172 | AC36: =AB36/$D$31 -> 1 | AD36: =IF(AB36<=$AB$36,$C$31*(1-(1-AB36/$AB$36)^$M$5),$C$31) -> 60.701289 | AE36: =AD36*$N$10/$L$10 -> 34.397397 | AG36: =AG35+$I$31/20 -> 4.4620017 | AH36: =AG36/$I$31 -> 1 | AI36: =IF(AG36<=$AG$36,$H$31*AH36*($Q$5-AH36)/(1+($Q$5-2)*AH36)) -> 62.310009 | AJ36: =AI36*$N$10/$L$10 -> 35.309005 | AL36: =AL35+$K$5/20 -> 2 | AM36: =$E$5*(1-(1-AL36/$K$5)^$M$5) -> 50 | AN36: =AM36*$N$10/$L$10 -> 28.333333 | AV36: =$K$5 -> 2 | AW36: =$AB$36 -> 2.9477172 | AX36: =$AL$37 -> 3.5 | AY36: =$AB$37 -> 12.061031 | AZ36: =$AG$37 -> 21.17427 | BA36: =$AI$36 -> 62.310009
C37: SAP2000 NONLINEAR MATERIAL DATA - INPUT [UNITS kN / m / C°] | AB37: =E31 -> 12.061031 | AC37: 0 | AD37: =0.85*$AD$36 -> 51.596096 | AE37: =AD37*$N$10/$L$10 -> 29.237787 | AG37: =J31 -> 21.17427 | AH37: 0 | AI37: =0.85*AI36 -> 52.963507 | AJ37: =AI37*$N$10/$L$10 -> 30.012654 | AL37: =L5 -> 3.5 | AM37: =E5 -> 50 | AN37: =AM37*$N$10/$L$10 -> 28.333333 | AV37: =$K$5 -> 2 | AW37: =$AB$36 -> 2.9477172 | AX37: =$AL$37 -> 3.5 | AY37: =$AB$37 -> 12.061031 | AZ37: =$AG$37 -> 21.17427 | BA37: =$AI$36 -> 62.310009
C39: Confined Concrete EC2 | F39: Confined Concrete EC8 | I39: Unconfined Concrete EC2 | L39: Reinforcement Without Hardening
C41: ε | D41: σcc.D | F41: ε | G41: σcc.D | I41: ε | J41: σc.D | L41: ε | M41: σs.D
C42: [‰] | D42: [kPa] | F42: [‰] | G42: [kPa] | I42: [‰] | J42: [kPa] | L42: [‰] | M42: [MPa]
C43: =AB15/-1000 -> 0.0001 | D43: =-1*AE15*1000 -> 100 | F43: =AG15/-1000 -> 0.0001 | G43: =-1*AJ15*1000 -> 100 | I43: =AL15/-1000 -> 0.0001 | J43: =-1*AN15*1000 -> 100 | L43: =AP24/1000 -> -0.045 | M43: =AQ24*1000 -> -434782.61
C44: =AB16/-1000 -> 0 | D44: =-1*AE16*1000 -> 0 | F44: =AG16/-1000 -> 0 | G44: =-1*AJ16*1000 -> 0 | I44: =AL16/-1000 -> 0 | J44: =-1*AN16*1000 -> 0 | L44: =AP25/1000 -> -0.002173913 | M44: =AQ25*1000 -> -434782.61
C45: =AB17/-1000 -> -0.00014738586 | D45: =-1*AE17*1000 -> -3353.7462 | F45: =AG17/-1000 -> -0.00022310009 | G45: =-1*AJ17*1000 -> -4482.2811 | I45: =AL17/-1000 -> -0.0001 | J45: =-1*AN17*1000 -> -2762.5 | L45: =AP26/1000 -> 0 | M45: =AQ26*1000 -> 0
...

Sheet WR3-05
C2: Concrete Parameters - Unconfined
C3: Class | D3: Mark (BAB '87) | E3: fck | F3: fcm | G3: Ecm | H3: Ec | I3: εc1 | J3: εcu1 | K3: εc2 | L3: εcu2 | M3: n | N3: εc3 | O3: εcu3 | P3: εcy | Q3: k
E4: [MPa] | F4: [MPa] | G4: [GPa] | H4: [GPa] | I4: [‰] | J4: [‰] | K4: [‰] | L4: [‰] | M4: [-] | N4: [‰] | O4: [‰] | P4: [‰] | Q4: [-]
C5: C50/60 | D5: =VLOOKUP(C5,Data!C5:O13,2,FALSE) -> 60 | E5: =VLOOKUP(C5,Data!C5:P13,3,FALSE) -> 50 | F5: =VLOOKUP(C5,Data!C5:P13,4,FALSE) -> 58 | G5: =VLOOKUP(C5,Data!C5:P13,5,FALSE) -> 37 | H5: =VLOOKUP(C5,Data!C5:P13,6,FALSE) -> 35.569985 | I5: =VLOOKUP(C5,Data!C5:P13,7,FALSE) -> 2.45 | J5: =VLOOKUP(C5,Data!C5:P13,8,FALSE) -> 3.5 | K5: =VLOOKUP(C5,Data!C5:P13,9,FALSE) -> 2 | L5: =VLOOKUP(C5,Data!C5:P13,10,FALSE) -> 3.5 | M5: =VLOOKUP('WR3-05'!C5,Data!C5:P13,11,FALSE) -> 2 | N5: =VLOOKUP(C5,Data!C5:P13,12,FALSE) -> 1.75 | O5: =VLOOKUP(C5,Data!C5:P13,13,FALSE) -> 3.5 | P5: =VLOOKUP(C5,Data!C5:P13,14,FALSE) -> 2.4324324 | Q5: =1.05*H5*I31/H31 -> 2.4292472
C7: Reinforcement Parameters | L7: Design Parameters
C8: Class | D8: fy | E8: fu | F8: k | G8: Es | H8: εsy | I8: εsu.k | J8: εsu.d | L8: ϒc | M8: ϒs | N8: αcc
D9: [MPa] | E9: [MPa] | F9: [-] | G9: [GPa] | H9: [‰] | I9: [‰] | J9: [‰] | L9: [-] | M9: [-] | N9: [-]
C10: B500 B | D10: =VLOOKUP(C10,Data!C18:J20,2,FALSE) -> 500 | E10: =VLOOKUP(C10,Data!C18:J20,3,FALSE) -> 540 | F10: =VLOOKUP(C10,Data!C18:J20,4,FALSE) -> 1.08 | G10: =VLOOKUP(C10,Data!C18:J20,5,FALSE) -> 200 | H10: =VLOOKUP(C10,Data!C18:J20,6,FALSE) -> 2.5 | I10: =VLOOKUP(C10,Data!C18:J20,7,FALSE) -> 50 | J10: =VLOOKUP(C10,Data!C18:J20,8,FALSE) -> 45 | L10: 1.5 | M10: 1.15 | N10: 0.85 | AP10: Without Hardening | AS10: With Hardening
C12: Section Parameters | AB12: σ - ε Confined Concrete EC2 | AG12: σ - ε Confined Concrete EC8 | AL12: σ - ε Unconfined Concrete EC2 | AP12: σ - ε Reinforcement | AS12: σ - ε Reinforcement
C13: b | D13: h | E13: a0 | F13: b0 | G13: h0 | H13: Type | AB13: ε | AC13: η | AD13: σcc | AE13: σccD | AG13: ε | AH13: η | AI13: σcc | AJ13: σccD | AL13: ε | AM13: σc | AN13: σcD | AP13: ε | AQ13: σs | AS13: ε | AT13: σs
C14: [mm] | D14: [mm] | E14: [mm] | F14: [mm] | G14: [mm] | H14: [-] | AB14: [‰] | AC14: [-] | AD14: [MPa] | AE14: [MPa] | AG14: [‰] | AH14: [-] | AI14: [MPa] | AJ14: [MPa] | AL14: [‰] | AM14: [MPa] | AN14: [MPa] | AP14: [‰] | AQ14: [MPa] | AS14: [‰] | AT14: [MPa]
C15: 500 | D15: 1220 | E15: 35 | F15: =C15-2*E15-C21 -> 422 | G15: =D15-2*E15-C21 -> 1142 | H15: Wall | AB15: -0.1 | AC15: 0 | AD15: -0.1 | AE15: =-0.1 -> -0.1 | AG15: -0.1 | AH15: 0 | AI15: -0.1 | AJ15: =-0.1 -> -0.1 | AL15: -0.1 | AM15: -0.1 | AN15: =-0.1 -> -0.1 | AP15: =-1*J10 -> -45 | AQ15: =-D10 -> -500 | AS15: =-1*J10 -> -45 | AT15: =-1*E10 -> -540 | AV15: =$K$5 -> 2 | AW15: =$AB$36 -> 2.6636793 | AX15: =$AL$37 -> 3.5 | AY15: =$AB$37 -> 9.6621432 | AZ15: =$AG$37 -> 16.994157 | BA15: =$AI$36 -> 59.278019
C16: φf | D16: sx.ass | E16: sy.ass | F16: nx | G16: ny | H16: sx | I16: sy | J16: Confinement | K16: sx.c | L16: sy.c | M16: nx.c | N16: ny.c | AB16: 0 | AC16: =AB16/$D$31 -> 0 | AD16: =IF(AB16<=$AB$36,$C$31*(1-(1-AB16/$AB$36)^$M$5),$C$31) -> 0 | AE16: =AD16*$N$10/$L$10 -> 0 | AG16: 0 | AH16: =AG16/$I$31 -> 0 | AI16: =IF(AG16<=$AG$36,$H$31*AH16*($Q$5-AH16)/(1+($Q$5-2)*AH16)) -> 0 | AJ16: =AI16*$N$10/$L$10 -> 0 | AL16: 0 | AM16: =$E$5*(1-(1-AL16/$K$5)^$M$5) -> 0 | AN16: =AM16*$N$10/$L$10 -> 0 | AP16: =-1*D10/G10 -> -2.5 | AQ16: =AQ15 -> -500 | AS16: =-1*H10 -> -2.5 | AT16: =-1*D10 -> -500 | AV16: =$K$5 -> 2 | AW16: =$AB$36 -> 2.6636793 | AX16: =$AL$37 -> 3.5 | AY16: =$AB$37 -> 9.6621432 | AZ16: =$AG$37 -> 16.994157 | BA16: =$AI$36 -> 59.278019
C17: [mm] | D17: [mm] | E17: [mm] | F17: [-] | G17: [-] | H17: [mm] | I17: [mm] | K17: [mm] | L17: [mm] | M17: [-] | N17: [-] | AB17: =AB16+$D$31/20 -> 0.13318397 | AC17: =AB17/$D$31 -> 0.05 | AD17: =IF(AB17<=$AB$36,$C$31*(1-(1-AB17/$AB$36)^$M$5),$C$31) -> 5.6260112 | AE17: =AD17*$N$10/$L$10 -> 3.188073 | AG17: =AG16+$I$31/20 -> 0.19278019 | AH17: =AG17/$I$31 -> 0.05 | AI17: =IF(AG17<=$AG$36,$H$31*AH17*($Q$5-AH17)/(1+($Q$5-2)*AH17)) -> 6.9036837 | AJ17: =AI17*$N$10/$L$10 -> 3.9120874 | AL17: =AL16+$K$5/20 -> 0.1 | AM17: =$E$5*(1-(1-AL17/$K$5)^$M$5) -> 4.875 | AN17: =AM17*$N$10/$L$10 -> 2.7625 | AP17: =0 -> 0 | AQ17: =0 -> 0 | AS17: =0 -> 0 | AT17: =0 -> 0 | AV17: =$K$5 -> 2 | AW17: =$AB$36 -> 2.6636793 | AX17: =$AL$37 -> 3.5 | AY17: =$AB$37 -> 9.6621432 | AZ17: =$AG$37 -> 16.994157 | BA17: =$AI$36 -> 59.278019
C18: 16 | D18: 200 | E18: 200 | F18: =IF(ROUND(F15/D18,0)*D18<F15-C18-C21,ROUND(F15/D18,0)+1,ROUND(F15/D18,0)) -> 2 | G18: =IF(ROUND(G15/E18,0)*E18<G15-C18-C21,ROUND(G15/E18,0)+1,ROUND(G15/E18,0)) -> 6 | H18: =(F15-C21-C18)/F18 -> 199 | I18: =(G15-C21-C18)/G18 -> 186.33333 | J18: Min | K18: =IF(J18="Min",IF(D18=200,H18,IF(2*H18<=200,2*H18,H18)),IF(J18="Max",H18)) -> 199 | L18: =IF(J18="Min",IF(E18=200,I18,IF(2*I18<=200,2*I18,I18)),IF(J18="Max",I18)) -> 186.33333 | M18: =IF(K18=H18,F18,F18/2) -> 2 | N18: =IF(L18=I18,G18,G18/2) -> 6 | AB18: =AB17+$D$31/20 -> 0.26636793 | AC18: =AB18/$D$31 -> 0.1 | AD18: =IF(AB18<=$AB$36,$C$31*(1-(1-AB18/$AB$36)^$M$5),$C$31) -> 10.963509 | AE18: =AD18*$N$10/$L$10 -> 6.2126551 | AG18: =AG17+$I$31/20 -> 0.38556038 | AH18: =AG18/$I$31 -> 0.1 | AI18: =IF(AG18<=$AG$36,$H$31*AH18*($Q$5-AH18)/(1+($Q$5-2)*AH18)) -> 13.239034 | AJ18: =AI18*$N$10/$L$10 -> 7.5021193 | AL18: =AL17+$K$5/20 -> 0.2 | AM18: =$E$5*(1-(1-AL18/$K$5)^$M$5) -> 9.5 | AN18: =AM18*$N$10/$L$10 -> 5.3833333 | AP18: =-1*AP16 -> 2.5 | AQ18: =-1*AQ16 -> 500 | AS18: =H10 -> 2.5 | AT18: =D10 -> 500 | AV18: =$K$5 -> 2 | AW18: =$AB$36 -> 2.6636793 | AX18: =$AL$37 -> 3.5 | AY18: =$AB$37 -> 9.6621432 | AZ18: =$AG$37 -> 16.994157 | BA18: =$AI$36 -> 59.278019
C19: φs | D19: s | E19: Asx | F19: Asy | G19: ρswx | H19: ρswy | I19: αn | J19: αs | K19: α | L19: ρsw | M19: ωw | N19: σ2 | AB19: =AB18+$D$31/20 -> 0.3995519 | AC19: =AB19/$D$31 -> 0.15 | AD19: =IF(AB19<=$AB$36,$C$31*(1-(1-AB19/$AB$36)^$M$5),$C$31) -> 16.012493 | AE19: =AD19*$N$10/$L$10 -> 9.0737463 | AG19: =AG18+$I$31/20 -> 0.57834058 | AH19: =AG19/$I$31 -> 0.15 | AI19: =IF(AG19<=$AG$36,$H$31*AH19*($Q$5-AH19)/(1+($Q$5-2)*AH19)) -> 19.040431 | AJ19: =AI19*$N$10/$L$10 -> 10.789578 | AL19: =AL18+$K$5/20 -> 0.3 | AM19: =$E$5*(1-(1-AL19/$K$5)^$M$5) -> 13.875 | AN19: =AM19*$N$10/$L$10 -> 7.8625 | AP19: =-1*AP15 -> 45 | AQ19: =AQ18 -> 500 | AS19: =J10 -> 45 | AT19: =E10 -> 540 | AV19: =$K$5 -> 2 | AW19: =$AB$36 -> 2.6636793 | AX19: =$AL$37 -> 3.5 | AY19: =$AB$37 -> 9.6621432 | AZ19: =$AG$37 -> 16.994157 | BA19: =$AI$36 -> 59.278019
C20: [mm] | D20: [mm] | E20: [mm2] | F20: [mm2] | G20: [%] | H20: [%] | I20: [-] | J20: [-] | K20: [-] | L20: [%] | M20: [-] | N20: [MPa] | AB20: =AB19+$D$31/20 -> 0.53273587 | AC20: =AB20/$D$31 -> 0.2 | AD20: =IF(AB20<=$AB$36,$C$31*(1-(1-AB20/$AB$36)^$M$5),$C$31) -> 20.772964 | AE20: =AD20*$N$10/$L$10 -> 11.771347 | AG20: =AG19+$I$31/20 -> 0.77112077 | AH20: =AG20/$I$31 -> 0.2 | AI20: =IF(AG20<=$AG$36,$H$31*AH20*($Q$5-AH20)/(1+($Q$5-2)*AH20)) -> 24.339536 | AJ20: =AI20*$N$10/$L$10 -> 13.792404 | AL20: =AL19+$K$5/20 -> 0.4 | AM20: =$E$5*(1-(1-AL20/$K$5)^$M$5) -> 18 | AN20: =AM20*$N$10/$L$10 -> 10.2 | AV20: =$K$5 -> 2 | AW20: =$AB$36 -> 2.6636793 | AX20: =$AL$37 -> 3.5 | AY20: =$AB$37 -> 9.6621432 | AZ20: =$AG$37 -> 16.994157 | BA20: =$AI$36 -> 59.278019
C21: 8 | D21: 100 | E21: =(N18+1)*C21^2*PI()/4 -> 351.85838 | F21: =(M18+1)*C21^2*PI()/4 -> 150.79645 | G21: =E21/(D21*G15)*100 -> 0.30810716 | H21: =F21/(D21*F15)*100 -> 0.35733755 | I21: =1-(M18*2*(K18^2)+N18*2*(L18^2))/(6*F15*G15) -> 0.80112862 | J21: =(1-D21/(2*F15))*(1-D21/(2*G15)) -> 0.84292129 | K21: =I21*J21 -> 0.67528837 | L21: =2*MIN(G21,H21) -> 0.61621432 | M21: =L21/100*D10/E5 -> 0.061621432 | N21: =0.5*M21*E5 -> 1.5405358 | AB21: =AB20+$D$31/20 -> 0.66591983 | AC21: =AB21/$D$31 -> 0.25 | AD21: =IF(AB21<=$AB$36,$C$31*(1-(1-AB21/$AB$36)^$M$5),$C$31) -> 25.244922 | AE21: =AD21*$N$10/$L$10 -> 14.305456 | AG21: =AG20+$I$31/20 -> 0.96390096 | AH21: =AG21/$I$31 -> 0.25 | AI21: =IF(AG21<=$AG$36,$H$31*AH21*($Q$5-AH21)/(1+($Q$5-2)*AH21)) -> 29.165556 | AJ21: =AI21*$N$10/$L$10 -> 16.527148 | AL21: =AL20+$K$5/20 -> 0.5 | AM21: =$E$5*(1-(1-AL21/$K$5)^$M$5) -> 21.875 | AN21: =AM21*$N$10/$L$10 -> 12.395833 | AP21: σ - ε Reinforcement | AS21: σ - ε Reinforcement | AV21: =$K$5 -> 2 | AW21: =$AB$36 -> 2.6636793 | AX21: =$AL$37 -> 3.5 | AY21: =$AB$37 -> 9.6621432 | AZ21: =$AG$37 -> 16.994157 | BA21: =$AI$36 -> 59.278019
AB22: =AB21+$D$31/20 -> 0.7991038 | AC22: =AB22/$D$31 -> 0.3 | AD22: =IF(AB22<=$AB$36,$C$31*(1-(1-AB22/$AB$36)^$M$5),$C$31) -> 29.428366 | AE22: =AD22*$N$10/$L$10 -> 16.676074 | AG22: =AG21+$I$31/20 -> 1.1566812 | AH22: =AG22/$I$31 -> 0.3 | AI22: =IF(AG22<=$AG$36,$H$31*AH22*($Q$5-AH22)/(1+($Q$5-2)*AH22)) -> 33.545476 | AJ22: =AI22*$N$10/$L$10 -> 19.009103 | AL22: =AL21+$K$5/20 -> 0.6 | AM22: =$E$5*(1-(1-AL22/$K$5)^$M$5) -> 25.5 | AN22: =AM22*$N$10/$L$10 -> 14.45 | AP22: ε | AQ22: σsD | AS22: ε | AT22: σsD | AV22: =$K$5 -> 2 | AW22: =$AB$36 -> 2.6636793 | AX22: =$AL$37 -> 3.5 | AY22: =$AB$37 -> 9.6621432 | AZ22: =$AG$37 -> 16.994157 | BA22: =$AI$36 -> 59.278019
C23: Comment on flexural RFT | F23: Comment on confinement RFT | I23: Comment on Volumetric Ratio | AB23: =AB22+$D$31/20 -> 0.93228777 | AC23: =AB23/$D$31 -> 0.35 | AD23: =IF(AB23<=$AB$36,$C$31*(1-(1-AB23/$AB$36)^$M$5),$C$31) -> 33.323297 | AE23: =AD23*$N$10/$L$10 -> 18.883202 | AG23: =AG22+$I$31/20 -> 1.3494613 | AH23: =AG23/$I$31 -> 0.35 | AI23: =IF(AG23<=$AG$36,$H$31*AH23*($Q$5-AH23)/(1+($Q$5-2)*AH23)) -> 37.504269 | AJ23: =AI23*$N$10/$L$10 -> 21.252419 | AL23: =AL22+$K$5/20 -> 0.7 | AM23: =$E$5*(1-(1-AL23/$K$5)^$M$5) -> 28.875 | AN23: =AM23*$N$10/$L$10 -> 16.3625 | AP23: [‰] | AQ23: [MPa] | AS23: [‰] | AT23: [MPa] | AV23: =$K$5 -> 2 | AW23: =$AB$36 -> 2.6636793 | AX23: =$AL$37 -> 3.5 | AY23: =$AB$37 -> 9.6621432 | AZ23: =$AG$37 -> 16.994157 | BA23: =$AI$36 -> 59.278019
C24: ρL | D24: =IF(H15="Column",IF(C26<0.01,"Increase RFT",IF(C26>0.04,"Decrease RFT","Pass")),IF(H15="Wall",IF(C26<0.005,"Increase RFT",IF(C26>0.04,"Decrease RFT","Pass")))) -> Pass | F24: s | G24: =IF(D21<MIN(F15/2,G15/2,175,8*C18),"Pass","Decrease Spacing") -> Pass | I24: ωwd | J24: =IF(I26>0.08,"Pass","Adjust Detail") -> Pass | AB24: =AB23+$D$31/20 -> 1.0654717 | AC24: =AB24/$D$31 -> 0.4 | AD24: =IF(AB24<=$AB$36,$C$31*(1-(1-AB24/$AB$36)^$M$5),$C$31) -> 36.929715 | AE24: =AD24*$N$10/$L$10 -> 20.926838 | AG24: =AG23+$I$31/20 -> 1.5422415 | AH24: =AG24/$I$31 -> 0.4 | AI24: =IF(AG24<=$AG$36,$H$31*AH24*($Q$5-AH24)/(1+($Q$5-2)*AH24)) -> 41.065074 | AJ24: =AI24*$N$10/$L$10 -> 23.270209 | AL24: =AL23+$K$5/20 -> 0.8 | AM24: =$E$5*(1-(1-AL24/$K$5)^$M$5) -> 32 | AN24: =AM24*$N$10/$L$10 -> 18.133333 | AP24: =AP15 -> -45 | AQ24: =-D10/M10 -> -434.78261 | AS24: =-1*J10 -> -45 | AT24: =-1*E10/M10 -> -469.56522 | AV24: =$K$5 -> 2 | AW24: =$AB$36 -> 2.6636793 | AX24: =$AL$37 -> 3.5 | AY24: =$AB$37 -> 9.6621432 | AZ24: =$AG$37 -> 16.994157 | BA24: =$AI$36 -> 59.278019
C25: [%] | F25: [mm] | I25: [-] | AB25: =AB24+$D$31/20 -> 1.1986557 | AC25: =AB25/$D$31 -> 0.45 | AD25: =IF(AB25<=$AB$36,$C$31*(1-(1-AB25/$AB$36)^$M$5),$C$31) -> 40.247619 | AE25: =AD25*$N$10/$L$10 -> 22.806984 | AG25: =AG24+$I$31/20 -> 1.7350217 | AH25: =AG25/$I$31 -> 0.45 | AI25: =IF(AG25<=$AG$36,$H$31*AH25*($Q$5-AH25)/(1+($Q$5-2)*AH25)) -> 44.249371 | AJ25: =AI25*$N$10/$L$10 -> 25.074643 | AL25: =AL24+$K$5/20 -> 0.9 | AM25: =$E$5*(1-(1-AL25/$K$5)^$M$5) -> 34.875 | AN25: =AM25*$N$10/$L$10 -> 19.7625 | AP25: =-D10/M10/G10 -> -2.173913 | AQ25: =AQ24 -> -434.78261 | AS25: =-1*D10/G10/M10 -> -2.173913 | AT25: =-1*D10/M10 -> -434.78261 | AV25: =$K$5 -> 2 | AW25: =$AB$36 -> 2.6636793 | AX25: =$AL$37 -> 3.5 | AY25: =$AB$37 -> 9.6621432 | AZ25: =$AG$37 -> 16.994157 | BA25: =$AI$36 -> 59.278019
